BEGIN:VCALENDAR
VERSION:2.0
PRODID:-//wp-events-plugin.com//6.4.7.3//EN
TZID:Europe/Vienna
X-WR-TIMEZONE:Europe/Vienna
BEGIN:VEVENT
UID:2423@teamcalendar.eu
DTSTART;TZID=Europe/Vienna:20250428T190000
DTEND;TZID=Europe/Vienna:20250428T200000
DTSTAMP:20250405T082658Z
URL:https://teamcalendar.eu/events/zellgesundheit-und-omega-3-2/
SUMMARY:Siegsdorf\, Zellgesundheit und Omega 3
DESCRIPTION:„Gesundheit ist nicht alles – aber ohne Gesundheit ist alle
 s nichts!“ Unsere Gesundheit beginnt in den Zellen. Nur wenn sie optimal
  funktionieren\, kann unser Körper langfristig gesund bleiben. Doch was g
 enau steckt dahinter? Und welche entscheidende Rolle spielt Omega-3 dabei?
  Erfahre mehr in diesem spannenden Vortrag!\, https://teamcalendar.eu/even
 ts/zellgesundheit-und-omega-3-2/ical/
ATTACH;FMTTYPE=image/jpeg:https://teamcalendar.eu/wp-content/uploads/2025/
 03/Vortrag-Omega3-Bildklein.jpg
CATEGORIES:Health Event,Produktvortrag
LOCATION:PAPILLON Café &amp\; Restaurant\, Ruhpoldinger Str. 53\, Siegsdor
 f\, Bayern\, 83313\, Deutschland
GEO:47.810433;12.65193
X-APPLE-STRUCTURED-LOCATION;VALUE=URI;X-ADDRESS=Ruhpoldinger Str. 53\, Sieg
 sdorf\, Bayern\, 83313\, Deutschland;X-APPLE-RADIUS=100;X-TITLE=PAPILLON C
 afé & Restaurant:geo:47.810433,12.65193
END:VEVENT
BEGIN:VTIMEZONE
TZID:Europe/Vienna
X-LIC-LOCATION:Europe/Vienna
BEGIN:DAYLIGHT
DTSTART:20250330T030000
TZOFFSETFROM:+0100
TZOFFSETTO:+0200
TZNAME:CEST
END:DAYLIGHT
END:VTIMEZONE
END:VCALENDAR