BEGIN:VCALENDAR
VERSION:2.0
PRODID:-//wp-events-plugin.com//6.4.7.3//EN
TZID:Europe/Vienna
X-WR-TIMEZONE:Europe/Vienna
BEGIN:VEVENT
UID:2651@teamcalendar.eu
DTSTART;TZID=Europe/Vienna:20250730T190000
DTEND;TZID=Europe/Vienna:20250730T210000
DTSTAMP:20250721T085957Z
URL:https://teamcalendar.eu/events/wir-alle-brauchen-omega-3-geschaeftspra
 esentation-3/
SUMMARY:Techelsberg am Wörthersee\, Wir alle brauchen Omega-3 Geschäftspr
 äsentation
DESCRIPTION:Wir sind ein erfahrenes Team von Fachleuten und Omega-3-begeist
 erten Menschen\, die aufgeschlossene Personen erfolgreich unterstützen\, 
 gesünder zu leben und in einem Wachstumsmarkt mit riesigem Potential eine
  Zukunft mit Lebensqualität aufzubauen.\, https://teamcalendar.eu/events/
 wir-alle-brauchen-omega-3-geschaeftspraesentation-3/ical/
ATTACH;FMTTYPE=image/jpeg:https://teamcalendar.eu/wp-content/uploads/2023/
 09/Team-Training4.jpg
CATEGORIES:Geschäftspräsentation
LOCATION:Marché Wörthersee Raststation\, Tibitsch A2\, Techelsberg am Wö
 rthersee\, Kärnten\, 9212\, Österreich
GEO:46.631334;14.095268
X-APPLE-STRUCTURED-LOCATION;VALUE=URI;X-ADDRESS=Tibitsch A2\, Techelsberg a
 m Wörthersee\, Kärnten\, 9212\, Österreich;X-APPLE-RADIUS=100;X-TITLE=M
 arché Wörthersee Raststation:geo:46.631334,14.095268
END:VEVENT
BEGIN:VTIMEZONE
TZID:Europe/Vienna
X-LIC-LOCATION:Europe/Vienna
BEGIN:DAYLIGHT
DTSTART:20250330T030000
TZOFFSETFROM:+0100
TZOFFSETTO:+0200
TZNAME:CEST
END:DAYLIGHT
END:VTIMEZONE
END:VCALENDAR