BEGIN:VCALENDAR
VERSION:2.0
PRODID:-//wp-events-plugin.com//6.4.7.3//EN
TZID:Europe/Vienna
X-WR-TIMEZONE:Europe/Vienna
BEGIN:VEVENT
UID:2243@teamcalendar.eu
DTSTART;TZID=Europe/Vienna:20241127T183000
DTEND;TZID=Europe/Vienna:20241127T193000
DTSTAMP:20241103T090143Z
URL:https://teamcalendar.eu/events/wir-alle-brauchen-omega-3-fettsaeuren/
SUMMARY:Steinach am Brenner\, Wir alle brauchen Omega-3-Fettsäuren
DESCRIPTION:Um unseren Körper gesund zu halten\, müssen wir ihm Nährstof
 fe in ausreichender Menge zuführen. In unserer heutigen modernen Ernähru
 ng fehlen unter anderem die wichtigen Omega-3-Fettsäuren\, deren Mangel z
 u zahlreichen Krankheiten führen kann. Wie wir diese optimal in unseren S
 peiseplan integrieren können und wie sie uns im Sport unterstützen\, wir
 d Ihnen in diesem Vortrag erklärt.\n\, https://teamcalendar.eu/events/wir
 -alle-brauchen-omega-3-fettsaeuren/ical/
CATEGORIES:Produktvortrag
LOCATION:WipGym\, Brenner Str. 17\, Steinach am Brenner\, Tirol\, 6150\, Ö
 sterreich
GEO:47.093209;11.466718
X-APPLE-STRUCTURED-LOCATION;VALUE=URI;X-ADDRESS=Brenner Str. 17\, Steinach 
 am Brenner\, Tirol\, 6150\, Österreich;X-APPLE-RADIUS=100;X-TITLE=WipGym:
 geo:47.093209,11.466718
END:VEVENT
BEGIN:VTIMEZONE
TZID:Europe/Vienna
X-LIC-LOCATION:Europe/Vienna
BEGIN:STANDARD
DTSTART:20241027T020000
TZOFFSETFROM:+0200
TZOFFSETTO:+0100
TZNAME:CET
END:STANDARD
END:VTIMEZONE
END:VCALENDAR