BEGIN:VCALENDAR
VERSION:2.0
PRODID:-//wp-events-plugin.com//6.4.7.3//EN
TZID:Europe/Vienna
X-WR-TIMEZONE:Europe/Vienna
BEGIN:VEVENT
UID:2244@teamcalendar.eu
DTSTART;TZID=Europe/Vienna:20241128T190000
DTEND;TZID=Europe/Vienna:20241128T200000
DTSTAMP:20241103T090703Z
URL:https://teamcalendar.eu/events/wir-alle-brauchen-omega-3-fettsaeuren-2
 /
SUMMARY:Innsbruck\, Wir alle brauchen Omega-3-Fettsäuren
DESCRIPTION:Um unseren Körper gesund zu halten\, müssen wir ihm Nährstof
 fe in ausreichender Menge zuführen. In unserer heutigen modernen Ernähru
 ng fehlen unter anderem die wichtigen Omega-3-Fettsäuren\, deren Mangel z
 u zahlreichen Krankheiten führen kann. Wie wir diese optimal in unseren S
 peiseplan integrieren können und wie sie uns im Sport unterstützen\, wir
 d Ihnen in diesem Vortrag erklärt.\n\, https://teamcalendar.eu/events/wir
 -alle-brauchen-omega-3-fettsaeuren-2/ical/
CATEGORIES:Produktvortrag
LOCATION:Crossfit Innsbruck\, Stadlweg 13 \, Innsbruck\, Tirol\, 6020\, Ös
 terreich
GEO:47.267756;11.429212
X-APPLE-STRUCTURED-LOCATION;VALUE=URI;X-ADDRESS=Stadlweg 13 \, Innsbruck\, 
 Tirol\, 6020\, Österreich;X-APPLE-RADIUS=100;X-TITLE=Crossfit Innsbruck:g
 eo:47.267756,11.429212
END:VEVENT
BEGIN:VTIMEZONE
TZID:Europe/Vienna
X-LIC-LOCATION:Europe/Vienna
BEGIN:STANDARD
DTSTART:20241027T020000
TZOFFSETFROM:+0200
TZOFFSETTO:+0100
TZNAME:CET
END:STANDARD
END:VTIMEZONE
END:VCALENDAR