BEGIN:VCALENDAR
VERSION:2.0
PRODID:-//wp-events-plugin.com//6.4.7.3//EN
TZID:Europe/Vienna
X-WR-TIMEZONE:Europe/Vienna
BEGIN:VEVENT
UID:2663@teamcalendar.eu
DTSTART;TZID=Europe/Vienna:20250825T183000
DTEND;TZID=Europe/Vienna:20250825T200000
DTSTAMP:20250824T182904Z
URL:https://teamcalendar.eu/events/wir-alle-brauchen-omega-3-9/
SUMMARY:Weiz\, Wir alle brauchen Omega 3
DESCRIPTION:Liesa Hüttl und Sabine Derler erklären die Zusammenhänge von
  Zellgesundheit und Omega3 Fettsäuren. Wir freuen uns auf einen interessa
 nten Vortrag und Austausch. Im Anschluss kann jeder unsere hochwertigen Ö
 le verkosten. Der Vortrag ist kostenfrei.\, https://teamcalendar.eu/events
 /wir-alle-brauchen-omega-3-9/ical/
ATTACH;FMTTYPE=image/jpeg:https://teamcalendar.eu/wp-content/uploads/2023/
 04/photo_2023-04-26_08-38-38.jpg
CATEGORIES:Health Event
LOCATION:Coworking Space Weiz\, Hauptplatz 12\, Weiz\, Steiermark\, 8160\, 
 Österreich
GEO:47.217721;15.622487
X-APPLE-STRUCTURED-LOCATION;VALUE=URI;X-ADDRESS=Hauptplatz 12\, Weiz\, Stei
 ermark\, 8160\, Österreich;X-APPLE-RADIUS=100;X-TITLE=Coworking Space Wei
 z:geo:47.217721,15.622487
END:VEVENT
BEGIN:VTIMEZONE
TZID:Europe/Vienna
X-LIC-LOCATION:Europe/Vienna
BEGIN:DAYLIGHT
DTSTART:20250330T030000
TZOFFSETFROM:+0100
TZOFFSETTO:+0200
TZNAME:CEST
END:DAYLIGHT
END:VTIMEZONE
END:VCALENDAR