BEGIN:VCALENDAR
VERSION:2.0
PRODID:-//wp-events-plugin.com//6.4.7.3//EN
TZID:Europe/Vienna
X-WR-TIMEZONE:Europe/Vienna
BEGIN:VEVENT
UID:2574@teamcalendar.eu
DTSTART;TZID=Europe/Vienna:20250725T183000
DTEND;TZID=Europe/Vienna:20250725T194500
DTSTAMP:20250526T074100Z
URL:https://teamcalendar.eu/events/wir-alle-brauchen-omega-3-5/
SUMMARY:Kematen\, Wir alle brauchen Omega 3
DESCRIPTION:Dr. Irene Heschl Koller\, ehemalige Gynäkologin\, erklärt die
  Zusammenhänge der Zellgesundheit und Omega3 Fettsäuren.\nWir freuen uns
  auf einen interessanten Vortrag und Austausch.\nIm Anschluss kann jeder u
 nsere hochwertigen Öle verkosten.\nDer Vortrag ist kostenfrei.\, https://
 teamcalendar.eu/events/wir-alle-brauchen-omega-3-5/ical/
ATTACH;FMTTYPE=image/jpeg:https://teamcalendar.eu/wp-content/uploads/2023/
 05/Wir-alle-brauchen-Omega3.png
CATEGORIES:Produktvortrag
LOCATION:Sozialsprengel an der Melach\,  Auweg 2 \, Kematen\, Tirol\, 6175\
 , Österreich
GEO:47.251969;11.27182
X-APPLE-STRUCTURED-LOCATION;VALUE=URI;X-ADDRESS= Auweg 2 \, Kematen\, Tirol
 \, 6175\, Österreich;X-APPLE-RADIUS=100;X-TITLE=Sozialsprengel an der Mel
 ach:geo:47.251969,11.27182
END:VEVENT
BEGIN:VTIMEZONE
TZID:Europe/Vienna
X-LIC-LOCATION:Europe/Vienna
BEGIN:DAYLIGHT
DTSTART:20250330T030000
TZOFFSETFROM:+0100
TZOFFSETTO:+0200
TZNAME:CEST
END:DAYLIGHT
END:VTIMEZONE
END:VCALENDAR