BEGIN:VCALENDAR
VERSION:2.0
PRODID:-//wp-events-plugin.com//6.4.7.3//EN
TZID:Europe/Vienna
X-WR-TIMEZONE:Europe/Vienna
BEGIN:VEVENT
UID:2216@teamcalendar.eu
DTSTART;TZID=Europe/Vienna:20241127T190000
DTEND;TZID=Europe/Vienna:20241127T210000
DTSTAMP:20240930T114800Z
URL:https://teamcalendar.eu/events/wir-alle-brauchen-omega-3-22/
SUMMARY:Techelsberg am Wörthersee\, Wir alle brauchen Omega-3
DESCRIPTION:Wir sind ein erfahrenes Team von Fachleuten und Omega-3-begeist
 erten Menschen\, die aufgeschlossene Personen erfolgreich  unterstützen\,
  gesünder zu leben und in einem Wachstumsmarkt mit riesigem Potential ein
 e Zukunft mit Lebensqualität aufzubauen.\, https://teamcalendar.eu/events
 /wir-alle-brauchen-omega-3-22/ical/
ATTACH;FMTTYPE=image/jpeg:https://teamcalendar.eu/wp-content/uploads/2023/
 09/Team-Training4.jpg
CATEGORIES:Geschäftspräsentation
LOCATION:Marché Wörthersee Raststation\, Tibitsch A2\, Techelsberg am Wö
 rthersee\, Kärnten\, 9212\, Österreich
GEO:46.631334;14.095268
X-APPLE-STRUCTURED-LOCATION;VALUE=URI;X-ADDRESS=Tibitsch A2\, Techelsberg a
 m Wörthersee\, Kärnten\, 9212\, Österreich;X-APPLE-RADIUS=100;X-TITLE=M
 arché Wörthersee Raststation:geo:46.631334,14.095268
END:VEVENT
BEGIN:VTIMEZONE
TZID:Europe/Vienna
X-LIC-LOCATION:Europe/Vienna
BEGIN:STANDARD
DTSTART:20241027T020000
TZOFFSETFROM:+0200
TZOFFSETTO:+0100
TZNAME:CET
END:STANDARD
END:VTIMEZONE
END:VCALENDAR