BEGIN:VCALENDAR
VERSION:2.0
PRODID:-//wp-events-plugin.com//6.4.7.3//EN
TZID:Europe/Vienna
X-WR-TIMEZONE:Europe/Vienna
BEGIN:VEVENT
UID:2600@teamcalendar.eu
DTSTART;TZID=Europe/Vienna:20250626T190000
DTEND;TZID=Europe/Vienna:20250626T203000
DTSTAMP:20250603T061640Z
URL:https://teamcalendar.eu/events/wege-aus-dem-naehrstoffmangel-mit-typge
 rechter-ernaehrung-und-omega-3/
SUMMARY:Wien\, Wege aus dem Nährstoffmangel mit typgerechter Ernährung un
 d Omega 3
DESCRIPTION:Gesundheitsvortrag\nErhalte Infos über:\n- mehr Zellgesundheit
 \n- Bessere Stoffwechselregulation\n- Leistungsfähigkeit und Wohlbefinden
 \n- Prävention von Zivilisationskrankheiten\n- Healthy Aging für alle Al
 tersgruppen\, https://teamcalendar.eu/events/wege-aus-dem-naehrstoffmangel
 -mit-typgerechter-ernaehrung-und-omega-3/ical/
CATEGORIES:Regionales Event
LOCATION:Pfarre Kalvarienbergkirche- Pfarrsaal\, St. Bartholomäusplatz 3\,
  Wien\, Wien\, 1170\, Wien\, Österreich
GEO:48.217558;16.331479
X-APPLE-STRUCTURED-LOCATION;VALUE=URI;X-ADDRESS=St. Bartholomäusplatz 3\, 
 Wien\, Wien\, 1170\, Wien\, Österreich;X-APPLE-RADIUS=100;X-TITLE=Pfarre 
 Kalvarienbergkirche- Pfarrsaal:geo:48.217558,16.331479
END:VEVENT
BEGIN:VTIMEZONE
TZID:Europe/Vienna
X-LIC-LOCATION:Europe/Vienna
BEGIN:DAYLIGHT
DTSTART:20250330T030000
TZOFFSETFROM:+0100
TZOFFSETTO:+0200
TZNAME:CEST
END:DAYLIGHT
END:VTIMEZONE
END:VCALENDAR