BEGIN:VCALENDAR
VERSION:2.0
PRODID:-//wp-events-plugin.com//6.4.7.3//EN
TZID:Europe/Vienna
X-WR-TIMEZONE:Europe/Vienna
BEGIN:VEVENT
UID:2579@teamcalendar.eu
DTSTART;TZID=Europe/Vienna:20250526T210000
DTEND;TZID=Europe/Vienna:20250526T220000
DTSTAMP:20250528T072927Z
URL:https://teamcalendar.eu/events/uk-focus-call-2/
SUMMARY:\, UK FOCUS CALL
DESCRIPTION:Are you ready to take your network marketing skills to the next
  level? Do you want to master the art of focus and strategic planning to c
 onquer the English-speaking market? Join us for an extraordinary online ev
 ent that promises to be both inspirational and transformative!\nWe start w
 ith the basic training of the "4 basic skills".\nAt 8pm UK time (21 Uhr Mi
 tteleurop. Zeit).\, https://teamcalendar.eu/events/uk-focus-call-2/ical/
CATEGORIES:Teamtraining
LOCATION:https://zoom.us/j/4448876668
END:VEVENT
BEGIN:VTIMEZONE
TZID:Europe/Vienna
X-LIC-LOCATION:Europe/Vienna
BEGIN:DAYLIGHT
DTSTART:20250330T030000
TZOFFSETFROM:+0100
TZOFFSETTO:+0200
TZNAME:CEST
END:DAYLIGHT
END:VTIMEZONE
END:VCALENDAR