BEGIN:VCALENDAR
VERSION:2.0
PRODID:-//wp-events-plugin.com//6.4.7.3//EN
TZID:Europe/Vienna
X-WR-TIMEZONE:Europe/Vienna
BEGIN:VEVENT
UID:2272@teamcalendar.eu
DTSTART;TZID=Europe/Vienna:20250111T130000
DTEND;TZID=Europe/Vienna:20250112T160000
DTSTAMP:20241223T184001Z
URL:https://teamcalendar.eu/events/ticket-fuer-kick-off-salzburg/
SUMMARY:Salzburg\, Ticket  für Kick off Salzburg
DESCRIPTION:Wenn du schon DEIN TICKET gekauft hast - registriere dich bitte
  mit deinem Namen und Rang bei empfohlen von... JEDES Ticket braucht einen
  Namen\, sonst können wir die Namenskärtchen nicht vorbereiten\nDANKE f
 ür deine Mithilfe\n\nStarte mit Motivation und neuem Know-How in dein Eqo
 logy Jahr 2025. \nUnser CVO Børre Gjersvik ist live mit dabei!\nAblauf:\n
 Samstag\, 11.01.2025 von 13:00 – 17:00: inkl. Kaffeepause (nur Getränke
 ) und gemeinsamem Abendessen (ohne Getränke) \nSonntag\, 12.01.2025 von 0
 9:00 – 16:00: inkl. Kaffeepause (nur Getränke) und warmen Mittagssnack\
 n\nUnter dem Codewort "Eqology" bekommt ihr im Wyndham folgende Preise fü
 r eure Zimmer \nEinzelbelegung à EUR 139\,- inkl. Frühstück und zzgl. C
 ity Tax\nDoppelbelegung à EUR 164\,- inkl. Frühstück und zzgl. City Tax
 \n\, https://teamcalendar.eu/events/ticket-fuer-kick-off-salzburg/ical/
CATEGORIES:Regionales Event
LOCATION:Wyndham Grand Salzburg Conference Centre\, Fanny-von-Lehnert-Stra
 ße 7\, Salzburg\, Salzburg\, 5020\, Österreich
GEO:47.815342;13.043447
X-APPLE-STRUCTURED-LOCATION;VALUE=URI;X-ADDRESS=Fanny-von-Lehnert-Straße 7
 \, Salzburg\, Salzburg\, 5020\, Österreich;X-APPLE-RADIUS=100;X-TITLE=Wyn
 dham Grand Salzburg Conference Centre:geo:47.815342,13.043447
END:VEVENT
BEGIN:VTIMEZONE
TZID:Europe/Vienna
X-LIC-LOCATION:Europe/Vienna
BEGIN:STANDARD
DTSTART:20241027T020000
TZOFFSETFROM:+0200
TZOFFSETTO:+0100
TZNAME:CET
END:STANDARD
END:VTIMEZONE
END:VCALENDAR