BEGIN:VCALENDAR
VERSION:2.0
PRODID:-//wp-events-plugin.com//6.4.7.3//EN
TZID:Europe/Vienna
X-WR-TIMEZONE:Europe/Vienna
BEGIN:VEVENT
UID:2264@teamcalendar.eu
DTSTART;TZID=Europe/Vienna:20241219T180000
DTEND;TZID=Europe/Vienna:20241219T230000
DTSTAMP:20241112T124428Z
URL:https://teamcalendar.eu/events/teamtraining-und-weihnachtsumtrunk/
SUMMARY:Kematen\, Teamtraining und Weihnachtsumtrunk
DESCRIPTION:Herzliche Einladung zu unserem diesjährigen Weihnachtsmeeting!
 \n\nVon 18:00 bis 20:00 Uhr erweitern wir gemeinsam unser Wissen. Danach l
 assen wir den Abend in gemütlicher Runde bei köstlichen Snacks ausklinge
 n.\n\nDamit der Abend kulinarisch abwechslungsreich wird\, freuen wir uns\
 , wenn du eine kleine Leckerei mitbringst. Für Getränke ist gesorgt.\n\n
 Bitte melde dich bis Freitag\, den 13.12.24\, an.\, https://teamcalendar.e
 u/events/teamtraining-und-weihnachtsumtrunk/ical/
ATTACH;FMTTYPE=image/jpeg:https://teamcalendar.eu/wp-content/uploads/2024/
 11/Weihnachten.jpg
CATEGORIES:Sonstige,Teamtraining
LOCATION:Sozialsprengel an der Melach\,  Auweg 2 \, Kematen\, Tirol\, 6175\
 , Österreich
GEO:47.251969;11.27182
X-APPLE-STRUCTURED-LOCATION;VALUE=URI;X-ADDRESS= Auweg 2 \, Kematen\, Tirol
 \, 6175\, Österreich;X-APPLE-RADIUS=100;X-TITLE=Sozialsprengel an der Mel
 ach:geo:47.251969,11.27182
END:VEVENT
BEGIN:VTIMEZONE
TZID:Europe/Vienna
X-LIC-LOCATION:Europe/Vienna
BEGIN:STANDARD
DTSTART:20241027T020000
TZOFFSETFROM:+0200
TZOFFSETTO:+0100
TZNAME:CET
END:STANDARD
END:VTIMEZONE
END:VCALENDAR