BEGIN:VCALENDAR
VERSION:2.0
PRODID:-//wp-events-plugin.com//6.4.7.3//EN
TZID:Europe/Vienna
X-WR-TIMEZONE:Europe/Vienna
BEGIN:VEVENT
UID:2228@teamcalendar.eu
DTSTART;TZID=Europe/Vienna:20241130T100000
DTEND;TZID=Europe/Vienna:20241130T170000
DTSTAMP:20241019T110806Z
URL:https://teamcalendar.eu/events/teamtraining-stmk-weihnachtsfeier/
SUMMARY:Penzendorf\, Teamtraining Stmk &amp\; Weihnachtsfeier
DESCRIPTION: Gemeinsam wachsen\, gemeinsam feiern. \n\nDieses Training biet
 et dir die Möglichkeit\, dich zu vernetzen\, neue Ideen zu sammeln und di
 e nötigen Werkzeuge zu bekommen\, um dein Business erfolgreich auszubauen
 .\n\nNutze die Chance\, deine Fähigkeiten zu erweitern\, deine Ziele zu e
 rreichen und langfristigen Erfolg zu sichern!\n\nTeamgefühl\, Wissen\, We
 rte\, Weiterentwicklung und Chancen 😃\n\nLet`s grow together. Melde dic
 h an und sei dabei. \n\n10 bis 17 Uhr Training\, Open End.\, https://teamc
 alendar.eu/events/teamtraining-stmk-weihnachtsfeier/ical/
CATEGORIES:Teamtraining
LOCATION:Gemeindesaal Penzendorf\, Penzendorf 26\, Penzendorf\, Steiermark\
 , 8230\, Österreich
GEO:47.303445;15.972182
X-APPLE-STRUCTURED-LOCATION;VALUE=URI;X-ADDRESS=Penzendorf 26\, Penzendorf\
 , Steiermark\, 8230\, Österreich;X-APPLE-RADIUS=100;X-TITLE=Gemeindesaal 
 Penzendorf:geo:47.303445,15.972182
END:VEVENT
BEGIN:VTIMEZONE
TZID:Europe/Vienna
X-LIC-LOCATION:Europe/Vienna
BEGIN:STANDARD
DTSTART:20241027T020000
TZOFFSETFROM:+0200
TZOFFSETTO:+0100
TZNAME:CET
END:STANDARD
END:VTIMEZONE
END:VCALENDAR