BEGIN:VCALENDAR
VERSION:2.0
PRODID:-//wp-events-plugin.com//6.4.7.3//EN
TZID:Europe/Vienna
X-WR-TIMEZONE:Europe/Vienna
BEGIN:VEVENT
UID:2553@teamcalendar.eu
DTSTART;TZID=Europe/Vienna:20250517T100000
DTEND;TZID=Europe/Vienna:20250517T150000
DTSTAMP:20250513T154655Z
URL:https://teamcalendar.eu/events/teamtraining-steiermark/
SUMMARY:St. Stefan im Rosental\, Teamtraining STEIERMARK
DESCRIPTION:Special Teamtraining mit Falko Krismayr und Esther Wilhelm 🚀
 \n\nDieses Training bietet dir die perfekte Gelegenheit\, dich zu vernetze
 n\, frische Ideen zu sammeln und die richtigen Werkzeuge an die Hand zu be
 kommen\, um dein Business nachhaltig zu skalieren.\n\n📅 10:00 – 16:00
  Uhr\n\nLet’s grow together! Melde dich jetzt verbindlich an! 💡✨\n
 🔥 WICHTIGE INFO 🔥\n📍Treffpunkt bereits ab 9:30 Uhr\, damit wir p
 ünktlich um 10:00 Uhr starten können! ⏰💯  \n📍Einlass nur mit Anm
 eldung.\n🥤🍽 1 Stunde Pause mit kleinen Snacks\, Geschäfte in der N
 ähe.\, https://teamcalendar.eu/events/teamtraining-steiermark/ical/
CATEGORIES:Teamtraining
LOCATION:Gemeindeamt St. Stefan im Rosental\, Feldbacherstraße 24\, St. St
 efan im Rosental\, Steiermark\, 8083\, Österreich
GEO:46.906015;15.71219
X-APPLE-STRUCTURED-LOCATION;VALUE=URI;X-ADDRESS=Feldbacherstraße 24\, St. 
 Stefan im Rosental\, Steiermark\, 8083\, Österreich;X-APPLE-RADIUS=100;X-
 TITLE=Gemeindeamt St. Stefan im Rosental:geo:46.906015,15.71219
END:VEVENT
BEGIN:VTIMEZONE
TZID:Europe/Vienna
X-LIC-LOCATION:Europe/Vienna
BEGIN:DAYLIGHT
DTSTART:20250330T030000
TZOFFSETFROM:+0100
TZOFFSETTO:+0200
TZNAME:CEST
END:DAYLIGHT
END:VTIMEZONE
END:VCALENDAR