BEGIN:VCALENDAR
VERSION:2.0
PRODID:-//wp-events-plugin.com//6.4.7.3//EN
TZID:Europe/Vienna
X-WR-TIMEZONE:Europe/Vienna
BEGIN:VEVENT
UID:2385@teamcalendar.eu
DTSTART;TZID=Europe/Vienna:20250412T100000
DTEND;TZID=Europe/Vienna:20250412T170000
DTSTAMP:20250408T062122Z
URL:https://teamcalendar.eu/events/teamtraining-steiermark-huegellandhof-l
 assnitzhoehe/
SUMMARY:\, Teamtraining STEIERMARK - Hügellandhof Lassnitzhöhe
DESCRIPTION:Take Your Business to New Heights! 🚀\n\nDieses Training biet
 et dir die perfekte Gelegenheit\, dich zu vernetzen\, frische Ideen zu sam
 meln und die richtigen Werkzeuge an die Hand zu bekommen\, um dein Busines
 s nachhaltig zu skalieren.\n\nNutze die Chance\, deine Fähigkeiten zu erw
 eitern\, deine Ziele zu erreichen und langfristigen Erfolg zu sichern!\n\n
 🔹 Teamgeist | Wissen | Werte | Weiterentwicklung | Chancen\n\n📅 10:0
 0 – 17:00 Uhr | Special Guest: Sonja Völkl\n\nLet’s grow together! Me
 lde dich jetzt an und sei dabei! 💡✨\n\n🔥 WICHTIGE INFO 🔥\n📍T
 reffpunkt bereits ab 9:30 Uhr\, damit wir pünktlich um 10:00 Uhr starten 
 können! ⏰💯  \n🥤🍽 Verpflegung auf Selbstkostenbasis vor Ort.\n\
 nBitte plant eure Anreise entsprechend ein – wir freuen uns auf euch! 
 🚀✨  \, https://teamcalendar.eu/events/teamtraining-steiermark-huegell
 andhof-lassnitzhoehe/ical/
CATEGORIES:Teamtraining
END:VEVENT
BEGIN:VTIMEZONE
TZID:Europe/Vienna
X-LIC-LOCATION:Europe/Vienna
BEGIN:DAYLIGHT
DTSTART:20250330T030000
TZOFFSETFROM:+0100
TZOFFSETTO:+0200
TZNAME:CEST
END:DAYLIGHT
END:VTIMEZONE
END:VCALENDAR