BEGIN:VCALENDAR
VERSION:2.0
PRODID:-//wp-events-plugin.com//6.4.7.3//EN
TZID:Europe/Vienna
X-WR-TIMEZONE:Europe/Vienna
BEGIN:VEVENT
UID:2631@teamcalendar.eu
DTSTART;TZID=Europe/Vienna:20250801T150000
DTEND;TZID=Europe/Vienna:20250801T170000
DTSTAMP:20250708T122607Z
URL:https://teamcalendar.eu/events/teamtraining-steiermark-2/
SUMMARY:Kindberg\, Teamtraining STEIERMARK mit Falko Krismayr
DESCRIPTION:15.00 Uhr Teamtraining mit Falko Krismayr \nAus organisatorisch
 en Gründen bitte ein (kostenloses) Ticket unter folgendem Link buchen:\nh
 ttps://shop.eventjet.at/de/bom/event/d682be14-503b-4feb-84c5-298cbcbe943d\
 n\nDieses Training bietet dir die perfekte Gelegenheit\, dich zu vernetzen
 \, frische Ideen zu sammeln und die richtigen Werkzeuge an die Hand zu bek
 ommen\, um dein Business nachhaltig zu skalieren.\n\nWeitere Veranstaltung
 en im Anschluss:\n18.00 Uhr Gesundheitsvortrag - Spezialthema Sport mit Fa
 lko Krismayr &amp\; Bernd Russ\n19.30 Uhr Geschäftspräsentation mit Falk
 o Krismayr sowie Nina &amp\; Bernd Russ\n\nFür diese beiden Events gibt e
 s ein Kombiticket welches unter folgendem Link buchbar ist:\nhttps://shop.
 eventjet.at/de/bom/event/6ed63fe7-bd06-487b-b4c3-ef7a9ecce92d\n\, https://
 teamcalendar.eu/events/teamtraining-steiermark-2/ical/
CATEGORIES:Teamtraining
LOCATION:DAS-COWERK\, Schrackgasse 9\, Kindberg\, Steiermark\, 8650\, Öste
 rreich
GEO:47.502311;15.445474
X-APPLE-STRUCTURED-LOCATION;VALUE=URI;X-ADDRESS=Schrackgasse 9\, Kindberg\,
  Steiermark\, 8650\, Österreich;X-APPLE-RADIUS=100;X-TITLE=DAS-COWERK:geo
 :47.502311,15.445474
END:VEVENT
BEGIN:VTIMEZONE
TZID:Europe/Vienna
X-LIC-LOCATION:Europe/Vienna
BEGIN:DAYLIGHT
DTSTART:20250330T030000
TZOFFSETFROM:+0100
TZOFFSETTO:+0200
TZNAME:CEST
END:DAYLIGHT
END:VTIMEZONE
END:VCALENDAR