BEGIN:VCALENDAR
VERSION:2.0
PRODID:-//wp-events-plugin.com//6.4.7.3//EN
TZID:Europe/Vienna
X-WR-TIMEZONE:Europe/Vienna
BEGIN:VEVENT
UID:2218@teamcalendar.eu
DTSTART;TZID=Europe/Vienna:20241109T090000
DTEND;TZID=Europe/Vienna:20241109T160000
DTSTAMP:20241107T134636Z
URL:https://teamcalendar.eu/events/teamtraining-ooe/
SUMMARY:Pasching\, Teamtraining OÖ
DESCRIPTION:Du bist herzlich eingeladen zum Teamtraining in OÖ! \n\nDieses
  Training bietet dir die Möglichkeit\, dich mit Gleichgesinnten zu vernet
 zen\, neue Ideen zu sammeln und die nötigen Werkzeuge zu bekommen\, um de
 in Business erfolgreich auszubauen. \n\nNutze die Chance\, deine Fähigkei
 ten zu erweitern\, deine Ziele zu erreichen und langfristigen Erfolg zu si
 chern!\n\n\n•	Erfahrungsaustausch: Teile deine Erlebnisse und lerne von 
 anderen.\n\n•	Produkte &amp\; USPs: Interaktive Session zu den einzigart
 igen Verkaufsargumenten und optimalen Produktkombis.\n\n•	Finde dein „
 Warum“: Entdecke deine Motivation für langfristigen Erfolg.\n\n•	Heal
 th Events gestalten: Wie gestalte ich erfolgreiche Events und gewinne Kund
 en?\n\n•	Business Partner gewinnen: Entwickle die Fähigkeiten\, um Chan
 cen zu erkennen und zu vergeben.\n\n•	Backoffice &amp\; Fast Starter: Fi
 t werden im Backoffice und schnell durchstarten.\n\n•	Werte-Workshop: Re
 flektiere\, wer du sein möchtest\, und wachse persönlich wie beruflich.\
 n\nMelde dich jetzt an und sei dabei!\n\, https://teamcalendar.eu/events/t
 eamtraining-ooe/ical/
CATEGORIES:Teamtraining
LOCATION:Treffpunkt im Langholzfeld\, Adalbert-Stifter-Straße 31\, Paschin
 g\, Oberosterreich\, 4061\, Österreich
GEO:48.243519;14.238948
X-APPLE-STRUCTURED-LOCATION;VALUE=URI;X-ADDRESS=Adalbert-Stifter-Straße 31
 \, Pasching\, Oberosterreich\, 4061\, Österreich;X-APPLE-RADIUS=100;X-TIT
 LE=Treffpunkt im Langholzfeld:geo:48.243519,14.238948
END:VEVENT
BEGIN:VTIMEZONE
TZID:Europe/Vienna
X-LIC-LOCATION:Europe/Vienna
BEGIN:STANDARD
DTSTART:20241027T020000
TZOFFSETFROM:+0200
TZOFFSETTO:+0100
TZNAME:CET
END:STANDARD
END:VTIMEZONE
END:VCALENDAR