BEGIN:VCALENDAR
VERSION:2.0
PRODID:-//wp-events-plugin.com//6.4.7.3//EN
TZID:Europe/Vienna
X-WR-TIMEZONE:Europe/Vienna
BEGIN:VEVENT
UID:2620@teamcalendar.eu
DTSTART;TZID=Europe/Vienna:20250802T093000
DTEND;TZID=Europe/Vienna:20250802T160000
DTSTAMP:20250714T203228Z
URL:https://teamcalendar.eu/events/teamtraining-ooe-dein-powerday-fuer-meh
 r-erfolg-klarheit-freude-im-tun/
SUMMARY:Traun\, Teamtraining OÖ – Dein PowerDay für mehr Erfolg\, Klarh
 eit &amp\; Freude im Tun!
DESCRIPTION:Dich erwartet ein inspirierender Tag voller Praxis\, Austausch 
 und Überraschungen – für dein persönliches Wachstum und deinen Busine
 ss-Erfolg\n\n🌟Kommunikation\, die Spaß macht!\n\n🌟Die 4 Basisfähig
 keiten\n\n🌟Wie du in deiner Kraft bleibst – auch in stürmischen Zeit
 en\n\n🌟Positive Strategieberichte um den Fokus auf Erfolg zu halten \n\
 n🌟Mach dich bereit für neue Impulse und viel Freude für echten Teamsp
 irit!\n\n🌟...und viele golden nuggets auf deinem Weg im Networkmarketin
 g\, https://teamcalendar.eu/events/teamtraining-ooe-dein-powerday-fuer-meh
 r-erfolg-klarheit-freude-im-tun/ical/
CATEGORIES:Teamtraining
LOCATION:Schloss Traun\, Schloss Str. 8\, Traun\, Oberösterreich \, 4050\,
  Österreich
GEO:48.218978;14.237278
X-APPLE-STRUCTURED-LOCATION;VALUE=URI;X-ADDRESS=Schloss Str. 8\, Traun\, Ob
 erösterreich \, 4050\, Österreich;X-APPLE-RADIUS=100;X-TITLE=Schloss Tra
 un:geo:48.218978,14.237278
END:VEVENT
BEGIN:VTIMEZONE
TZID:Europe/Vienna
X-LIC-LOCATION:Europe/Vienna
BEGIN:DAYLIGHT
DTSTART:20250330T030000
TZOFFSETFROM:+0100
TZOFFSETTO:+0200
TZNAME:CEST
END:DAYLIGHT
END:VTIMEZONE
END:VCALENDAR