BEGIN:VCALENDAR
VERSION:2.0
PRODID:-//wp-events-plugin.com//6.4.7.3//EN
TZID:Europe/Vienna
X-WR-TIMEZONE:Europe/Vienna
BEGIN:VEVENT
UID:2310@teamcalendar.eu
DTSTART;TZID=Europe/Vienna:20250322T090000
DTEND;TZID=Europe/Vienna:20250322T161500
DTSTAMP:20250318T081529Z
URL:https://teamcalendar.eu/events/teamtraining-ooe-2/
SUMMARY:Pasching\, Teamtraining OÖ - aktuell ausgebucht. Gerne auf Warteli
 ste setzen lassen
DESCRIPTION:Liebe Teammitglieder\,\n\nwir laden dich herzlich zu unserem Eq
 ology Teamtraining ein! Diese exklusive Gelegenheit bietet dir die Möglic
 hkeit\, deine Stärken auszubauen\, wertvolles Wissen zu gewinnen und dein
 en individuellen Erfolg auf das nächste Level zu bringen.\n\nDas erwartet
  dich:\n✨ Kundenbetreuung leicht gemacht – Erfahre\, wie du langfristi
 ge Beziehungen aufbaust und Kunden begeisterst.\n✨ Produkt- und Konzepts
 icherheit – Gewinne das Selbstvertrauen\, um unsere Produkte und unser K
 onzept authentisch zu vermitteln.\n✨ Einwandvorwegbehandlung – Lerne\,
  typische Einwände elegant zu umgehen\, bevor sie entstehen.\n✨ Network
 marketing-Kultur – Vertiefe das Verständnis für unsere Werte und werde
  Teil einer stärkenden Gemeinschaft.\n✨ Businesspartnergewinnung – En
 tdecke Strategien\, um neue Partner für dein Team zu gewinnen und erfolgr
 eich einzubinden.\n\nWas bringt es dir persönlich?\n\nDu wirst selbstbewu
 sster und sicherer im Umgang mit Kunden und Partnern.\n\n\, https://teamca
 lendar.eu/events/teamtraining-ooe-2/ical/
ATTACH;FMTTYPE=image/jpeg:https://teamcalendar.eu/wp-content/uploads/2025/
 01/teamtraining.jpg
CATEGORIES:Teamtraining
LOCATION:TIL IM Langholzfeld\, Adalbert-Stifter-Straße 31 \, Pasching\, Ö
 sterreich
GEO:48.243519;14.238948
X-APPLE-STRUCTURED-LOCATION;VALUE=URI;X-ADDRESS=Adalbert-Stifter-Straße 31
  \, Pasching\, Österreich;X-APPLE-RADIUS=100;X-TITLE=TIL IM Langholzfeld:
 geo:48.243519,14.238948
END:VEVENT
BEGIN:VTIMEZONE
TZID:Europe/Vienna
X-LIC-LOCATION:Europe/Vienna
BEGIN:STANDARD
DTSTART:20241027T020000
TZOFFSETFROM:+0200
TZOFFSETTO:+0100
TZNAME:CET
END:STANDARD
END:VTIMEZONE
END:VCALENDAR