BEGIN:VCALENDAR
VERSION:2.0
PRODID:-//wp-events-plugin.com//6.4.7.3//EN
TZID:Europe/Vienna
X-WR-TIMEZONE:Europe/Vienna
BEGIN:VEVENT
UID:2792@teamcalendar.eu
DTSTART;TZID=Europe/Vienna;VALUE=DATE:20260321
DTEND;TZID=Europe/Vienna;VALUE=DATE:20260322
DTSTAMP:20260211T185234Z
URL:https://teamcalendar.eu/events/teamtraining-im-murtal/
SUMMARY:\, Teamtraining im Murtal
DESCRIPTION:Wir freuen uns auf diesen gemeinsamen Tag mit euch. \nGeplant i
 st ein hochwertiges Teamtraining mit Mehrwert für alle Teilnehmer.\n\n"Ei
 n inspririerendes Treffen das Wissen vertieft und Raum für Klarheit\, Fok
 us und neue Impulse bietet"\n\n\, https://teamcalendar.eu/events/teamtrain
 ing-im-murtal/ical/
ATTACH;FMTTYPE=image/jpeg:https://teamcalendar.eu/wp-content/uploads/2026/
 02/Einladung_Murtalneu.jpeg
CATEGORIES:Regionales Event,Teamtraining
END:VEVENT
BEGIN:VTIMEZONE
TZID:Europe/Vienna
X-LIC-LOCATION:Europe/Vienna
BEGIN:STANDARD
DTSTART:20251026T020000
TZOFFSETFROM:+0200
TZOFFSETTO:+0100
TZNAME:CET
END:STANDARD
END:VTIMEZONE
END:VCALENDAR