BEGIN:VCALENDAR
VERSION:2.0
PRODID:-//wp-events-plugin.com//6.4.7.3//EN
TZID:Europe/Vienna
X-WR-TIMEZONE:Europe/Vienna
BEGIN:VEVENT
UID:2626@teamcalendar.eu
DTSTART;TZID=Europe/Vienna:20250710T190000
DTEND;TZID=Europe/Vienna:20250710T220000
DTSTAMP:20250623T134430Z
URL:https://teamcalendar.eu/events/teamtraining-fuer-deine-sicherheit-mit-
 vertiefendem-fachwissen-bitte-anmelden/
SUMMARY:\, TEAMTRAINING für DEINE SICHERHEIT mit vertiefendem Fachwissen -
  bitte anmelden
DESCRIPTION:Am DO\, 10.7. von 19-22 veranstalten Dr. Martin Krowicki und Ma
 rtin Auerswald das alljährliche und sehr beliebte fachliche Team-Training
 . \n\nEs wird viele Aha- und Oho-Momente und rauchende Köpfe geben😀\n 
 \nDas Ziel ist\, Fachwissen zu vermitteln\, aber auch Sicherheit im Umgang
  mit den Produkten. \nFür Menschen\, die sich für die fachliche Seite hi
 nter den EQ-Produkten interessieren könnten (z.B. Therapeuten). \n\nklick
 e auf den link- "hier gehts zum Meeting" und melde dich an\, https://teamc
 alendar.eu/events/teamtraining-fuer-deine-sicherheit-mit-vertiefendem-fach
 wissen-bitte-anmelden/ical/
CATEGORIES:Teamtraining
LOCATION:https://us06web.zoom.us/webinar/register/WN_mSucM7TCRzGW9OWRIjYx9w
END:VEVENT
BEGIN:VTIMEZONE
TZID:Europe/Vienna
X-LIC-LOCATION:Europe/Vienna
BEGIN:DAYLIGHT
DTSTART:20250330T030000
TZOFFSETFROM:+0100
TZOFFSETTO:+0200
TZNAME:CEST
END:DAYLIGHT
END:VTIMEZONE
END:VCALENDAR