BEGIN:VCALENDAR
VERSION:2.0
PRODID:-//wp-events-plugin.com//6.4.7.3//EN
TZID:Europe/Vienna
X-WR-TIMEZONE:Europe/Vienna
BEGIN:VEVENT
UID:2564@teamcalendar.eu
DTSTART;TZID=Europe/Vienna:20250727T100000
DTEND;TZID=Europe/Vienna:20250727T173000
DTSTAMP:20250527T083441Z
URL:https://teamcalendar.eu/events/team-training-tirol/
SUMMARY:Mieming\, Team Training Tirol - Mieming
DESCRIPTION:Dieses Team Training bietet dir die Möglichkeit\, die nötigen
  Werkzeuge zu bekommen\, um dein Business erfolgreich auszubauen. Darüber
  hinaus vernetzt du dich mit Gleichgesinnten\, sammelst neue Ideen und Mot
 ivation! Nutze die Chance\, deine Fähigkeiten zu erweitern\, deine Ziele 
 zu erreichen und langfristigen Erfolg zu sichern!\n\nBusiness Partner gewi
 nnen: Entwickle die Fähigkeiten\, um Chancen zu erkennen und zu vergeben.
 \nDeep Dive in den Compensation Plan: Nur wer seine Zahlen kennt\, kennt a
 uch sein Geschäft.\nErfahrungsaustausch: Teile deine Erlebnisse und lerne
  von anderen.\netc.\n\nProgramm:\nDauer: 10:00 - 17:30\nKosten: 57 Euro pr
 o Person \nTickets gibt's hier: shop.eventjet.at\n\nACHTUNG ANMELDESCHLUSS
 : 10. Juli für bessere Planbarkeit des Hotels\n\nIm Preis inkludiert ist\
 neine wunderschöne Eventlocation im Grünen\nKaffee\, Tee\, Wasser und S
 äfte während des gesamten Seminars\nein leichtes Business Lunch (2 Gäng
 e - exkl. Getränke)\n und natürlich viele spannende Inputs\, Möglichkei
 ten zum Austausch\, Spaß und ein toller gemeinsamer Eqology Trainings-Tag
 . \n(Die Kosten entsprechen 1:1 den Kosten\, die für die Seminarpauschale
 \, das Mittagessen und Bearbeitungsgebühr von Eventjet anfallen.)  \n\, h
 ttps://teamcalendar.eu/events/team-training-tirol/ical/
ATTACH;FMTTYPE=image/jpeg:https://teamcalendar.eu/wp-content/uploads/2025/
 05/photo_2025-05-12-16.20.15.jpeg
CATEGORIES:Regionales Event,Teamtraining
LOCATION:Greenvieh Mieming\, Obermieming 141\, Mieming\, Tirol\, 6414\, Ös
 terreich
GEO:47.307148;10.986114
X-APPLE-STRUCTURED-LOCATION;VALUE=URI;X-ADDRESS=Obermieming 141\, Mieming\,
  Tirol\, 6414\, Österreich;X-APPLE-RADIUS=100;X-TITLE=Greenvieh Mieming:g
 eo:47.307148,10.986114
END:VEVENT
BEGIN:VTIMEZONE
TZID:Europe/Vienna
X-LIC-LOCATION:Europe/Vienna
BEGIN:DAYLIGHT
DTSTART:20250330T030000
TZOFFSETFROM:+0100
TZOFFSETTO:+0200
TZNAME:CEST
END:DAYLIGHT
END:VTIMEZONE
END:VCALENDAR