BEGIN:VCALENDAR
VERSION:2.0
PRODID:-//wp-events-plugin.com//6.4.7.3//EN
TZID:Europe/Vienna
X-WR-TIMEZONE:Europe/Vienna
BEGIN:VEVENT
UID:2235@teamcalendar.eu
DTSTART;TZID=Europe/Vienna:20241109T140000
DTEND;TZID=Europe/Vienna:20241109T170000
DTSTAMP:20241021T165330Z
URL:https://teamcalendar.eu/events/team-training-london/
SUMMARY:London\, Team Training London
DESCRIPTION:Join us for the free Eqology Independent Business Partners Team
  Training. Learn more about how to become successful with Eqology\, exchan
 ge experiences\, ask questions\, become more successful! \nPlease sign up 
 at the link below! Thank you! \, https://teamcalendar.eu/events/team-train
 ing-london/ical/
ATTACH;FMTTYPE=image/jpeg:https://teamcalendar.eu/wp-content/uploads/2023/
 03/60639024-D1EB-4C33-8E27-2E967D6AABF7-scaled.jpeg
CATEGORIES:Teamtraining
LOCATION:Hallam Conference Centre\, 44 Hallam Street\, London\, W1W 6JJ\, V
 ereinigtes Königreich
GEO:51.520743;-0.143535
X-APPLE-STRUCTURED-LOCATION;VALUE=URI;X-ADDRESS=44 Hallam Street\, London\,
  W1W 6JJ\, Vereinigtes Königreich;X-APPLE-RADIUS=100;X-TITLE=Hallam Confe
 rence Centre:geo:51.520743,-0.143535
END:VEVENT
BEGIN:VTIMEZONE
TZID:Europe/Vienna
X-LIC-LOCATION:Europe/Vienna
BEGIN:STANDARD
DTSTART:20241027T020000
TZOFFSETFROM:+0200
TZOFFSETTO:+0100
TZNAME:CET
END:STANDARD
END:VTIMEZONE
END:VCALENDAR