BEGIN:VCALENDAR
VERSION:2.0
PRODID:-//wp-events-plugin.com//6.4.7.3//EN
TZID:Europe/Vienna
X-WR-TIMEZONE:Europe/Vienna
BEGIN:VEVENT
UID:2565@teamcalendar.eu
DTSTART;TZID=Europe/Vienna:20250621T140000
DTEND;TZID=Europe/Vienna:20250621T170000
DTSTAMP:20250512T180940Z
URL:https://teamcalendar.eu/events/team-training-london-2/
SUMMARY:London\, Team Training London
DESCRIPTION:Join us for the free Eqology Independent Business Partners Team
  Training. Learn more about how to become successful with Eqology\, exchan
 ge experiences\, ask questions\, become more successful!\nPlease sign up a
 t the link below! Thank you!\, https://teamcalendar.eu/events/team-trainin
 g-london-2/ical/
CATEGORIES:Teamtraining
LOCATION:Hallam Conference Centre\, 44 Hallam Street\, London\, W1W 6JJ\, V
 ereinigtes Königreich
GEO:51.520743;-0.143535
X-APPLE-STRUCTURED-LOCATION;VALUE=URI;X-ADDRESS=44 Hallam Street\, London\,
  W1W 6JJ\, Vereinigtes Königreich;X-APPLE-RADIUS=100;X-TITLE=Hallam Confe
 rence Centre:geo:51.520743,-0.143535
END:VEVENT
BEGIN:VTIMEZONE
TZID:Europe/Vienna
X-LIC-LOCATION:Europe/Vienna
BEGIN:DAYLIGHT
DTSTART:20250330T030000
TZOFFSETFROM:+0100
TZOFFSETTO:+0200
TZNAME:CEST
END:DAYLIGHT
END:VTIMEZONE
END:VCALENDAR