BEGIN:VCALENDAR
VERSION:2.0
PRODID:-//wp-events-plugin.com//6.4.7.3//EN
TZID:Europe/Vienna
X-WR-TIMEZONE:Europe/Vienna
BEGIN:VEVENT
UID:2836@teamcalendar.eu
DTSTART;TZID=Europe/Vienna:20260429T190000
DTEND;TZID=Europe/Vienna:20260429T203000
DTSTAMP:20260331T093333Z
URL:https://teamcalendar.eu/events/stille-entzuendungen-wenn-der-koerper-l
 eise-alarm-schlaegt/
SUMMARY:Saalfelden am Steinernen Meer\, Stille Entzündungen – die unsich
 tbare Gefahr
DESCRIPTION:Ist Ihnen bewusst\, dass fast alle Erkrankungen und Beschwerden
  den gleichen Ursprung haben? Mehr Informationen zu diesem Thema und vor a
 llem\, wie man sich schützen kann\, gibt es bei diesem Fachvortrag mit Dr
 . med. Irene Heschl-Koller.\, https://teamcalendar.eu/events/stille-entzue
 ndungen-wenn-der-koerper-leise-alarm-schlaegt/ical/
ATTACH;FMTTYPE=image/jpeg:https://teamcalendar.eu/wp-content/uploads/2024/
 10/7.jpg
CATEGORIES:Produktvortrag
LOCATION:Karl Reinthaler Haus\, Bahnhofstraße 22\, Saalfelden am Steinerne
 n Meer\, Salzburg\, 5760\, Österreich
GEO:47.426929;12.843269
X-APPLE-STRUCTURED-LOCATION;VALUE=URI;X-ADDRESS=Bahnhofstraße 22\, Saalfel
 den am Steinernen Meer\, Salzburg\, 5760\, Österreich;X-APPLE-RADIUS=100;
 X-TITLE=Karl Reinthaler Haus:geo:47.426929,12.843269
END:VEVENT
BEGIN:VTIMEZONE
TZID:Europe/Vienna
X-LIC-LOCATION:Europe/Vienna
BEGIN:DAYLIGHT
DTSTART:20260329T030000
TZOFFSETFROM:+0100
TZOFFSETTO:+0200
TZNAME:CEST
END:DAYLIGHT
END:VTIMEZONE
END:VCALENDAR