BEGIN:VCALENDAR
VERSION:2.0
PRODID:-//wp-events-plugin.com//6.4.7.3//EN
TZID:Europe/Vienna
X-WR-TIMEZONE:Europe/Vienna
BEGIN:VEVENT
UID:2239@teamcalendar.eu
DTSTART;TZID=Europe/Vienna:20241212T180000
DTEND;TZID=Europe/Vienna:20241212T193000
DTSTAMP:20241128T111416Z
URL:https://teamcalendar.eu/events/stille-entzuendungen-eine-unsichtbare-g
 efahr/
SUMMARY:Raubling \, Stille Entzündungen - eine unsichtbare Gefahr
DESCRIPTION:Ist Ihnen bewußt\, dass fast alle Erkrankungen und Beschwerden
  den gleichen Ursprung haben? Mehr Informationen zu diesem Thema und vor a
 llem\, wie man sich schützen kann\, gibt es bei diesem Fachvortrag von Jo
 sef Strohmayer\, Arzt für Ernährungsmedizin\, Epigenetik\, Orthomolekula
 rmedizin und Hormontherapie.\nAnschließend Abendessen und eine Omega-3-Ö
 lverköstigung.\n\, https://teamcalendar.eu/events/stille-entzuendungen-ei
 ne-unsichtbare-gefahr/ical/
ATTACH;FMTTYPE=image/jpeg:https://teamcalendar.eu/wp-content/uploads/2023/
 09/Everyone-needs-Omega3.png
CATEGORIES:Produktvortrag,Regionales Event
LOCATION:Werkhaus Raubling\, Rosenheimer Str. 32\, Raubling \, 83064\, Deut
 schland
GEO:47.795237;12.120483
X-APPLE-STRUCTURED-LOCATION;VALUE=URI;X-ADDRESS=Rosenheimer Str. 32\, Raubl
 ing \, 83064\, Deutschland;X-APPLE-RADIUS=100;X-TITLE=Werkhaus Raubling:ge
 o:47.795237,12.120483
END:VEVENT
BEGIN:VTIMEZONE
TZID:Europe/Vienna
X-LIC-LOCATION:Europe/Vienna
BEGIN:STANDARD
DTSTART:20241027T020000
TZOFFSETFROM:+0200
TZOFFSETTO:+0100
TZNAME:CET
END:STANDARD
END:VTIMEZONE
END:VCALENDAR