BEGIN:VCALENDAR
VERSION:2.0
PRODID:-//wp-events-plugin.com//6.4.7.3//EN
TZID:Europe/Vienna
X-WR-TIMEZONE:Europe/Vienna
BEGIN:VEVENT
UID:2240@teamcalendar.eu
DTSTART;TZID=Europe/Vienna:20241114T190000
DTEND;TZID=Europe/Vienna:20241114T203000
DTSTAMP:20241030T114103Z
URL:https://teamcalendar.eu/events/stille-entzuendungen-eine-unsichtbare-g
 efahr-2/
SUMMARY:Traunstein\, Stille Entzündungen - eine unsichtbare Gefahr
DESCRIPTION:Ist Ihnen bewußt\, dass fast alle Erkrankungen und Beschwerden
  den gleichen Ursprung haben? Mehr Informationen zu diesem Thema und vor a
 llem\, wie man sich schützen kann\, gibt es bei diesem Fachvortrag von Jo
 sef Strohmayer\, Arzt für Ernährungsmedizin\, Epigenetik\, Orthomolekula
 rmedizin und Hormontherapie.\n\, https://teamcalendar.eu/events/stille-ent
 zuendungen-eine-unsichtbare-gefahr-2/ical/
ATTACH;FMTTYPE=image/jpeg:https://teamcalendar.eu/wp-content/uploads/2023/
 09/Everyone-needs-Omega3.png
CATEGORIES:Produktvortrag
LOCATION:Praxis Strohmayer\, Stadtplatz 28\, Traunstein\, 83278\, Deutschla
 nd
GEO:47.869516;12.649928
X-APPLE-STRUCTURED-LOCATION;VALUE=URI;X-ADDRESS=Stadtplatz 28\, Traunstein\
 , 83278\, Deutschland;X-APPLE-RADIUS=100;X-TITLE=Praxis Strohmayer:geo:47.
 869516,12.649928
END:VEVENT
BEGIN:VTIMEZONE
TZID:Europe/Vienna
X-LIC-LOCATION:Europe/Vienna
BEGIN:STANDARD
DTSTART:20241027T020000
TZOFFSETFROM:+0200
TZOFFSETTO:+0100
TZNAME:CET
END:STANDARD
END:VTIMEZONE
END:VCALENDAR