BEGIN:VCALENDAR
VERSION:2.0
PRODID:-//wp-events-plugin.com//6.4.7.3//EN
TZID:Europe/Vienna
X-WR-TIMEZONE:Europe/Vienna
BEGIN:VEVENT
UID:2057@teamcalendar.eu
DTSTART;TZID=Europe/Vienna:20241021T190000
DTEND;TZID=Europe/Vienna:20241021T200000
DTSTAMP:20241021T165737Z
URL:https://teamcalendar.eu/events/stille-entzuendungen-die-unsichtbare-ge
 fahr-89/
SUMMARY:88213 Ravensburg\, STILLE ENTZÜNDUNGEN... DIE UNSICHTBARE GEFAHR!
DESCRIPTION:Ist dir bewusst\, dass fast alle Erkrankungen und Beschwerden d
 en gleichen Ursprung haben?\nMehr Infos zu diesem Thema und wie man sich s
 chützen kann\, gibt es bei diesem Vortrag von Anna Schäfer Sportwissensc
 haftlerin B.A.\, https://teamcalendar.eu/events/stille-entzuendungen-die-u
 nsichtbare-gefahr-89/ical/
ATTACH;FMTTYPE=image/jpeg:https://teamcalendar.eu/wp-content/uploads/2024/
 10/7.jpg
CATEGORIES:Health Event,Produktvortrag
LOCATION:Fanfarenheim Oberzell\, Schulstraße 17\, 88213 Ravensburg\, Deuts
 chland
GEO:47.750195;9.568945
X-APPLE-STRUCTURED-LOCATION;VALUE=URI;X-ADDRESS=Schulstraße 17\, 88213 Rav
 ensburg\, Deutschland;X-APPLE-RADIUS=100;X-TITLE=Fanfarenheim Oberzell:geo
 :47.750195,9.568945
END:VEVENT
BEGIN:VTIMEZONE
TZID:Europe/Vienna
X-LIC-LOCATION:Europe/Vienna
BEGIN:DAYLIGHT
DTSTART:20240331T030000
TZOFFSETFROM:+0100
TZOFFSETTO:+0200
TZNAME:CEST
END:DAYLIGHT
END:VTIMEZONE
END:VCALENDAR