BEGIN:VCALENDAR
VERSION:2.0
PRODID:-//wp-events-plugin.com//6.4.7.3//EN
TZID:Europe/Vienna
X-WR-TIMEZONE:Europe/Vienna
BEGIN:VEVENT
UID:2206@teamcalendar.eu
DTSTART;TZID=Europe/Vienna:20241113T193000
DTEND;TZID=Europe/Vienna:20241113T203000
DTSTAMP:20240927T085557Z
URL:https://teamcalendar.eu/events/stille-entzuendungen-die-unsichtbare-ge
 fahr-88/
SUMMARY:Ampfing\, "Stille Entzündungen – Die unsichtbare Gefahr"
DESCRIPTION:"Stille Entzündungen – Die unsichtbare Gefahr"\n\nLiebe Inte
 ressierte\,\n\nwir laden Sie herzlich zu unserem informativen Vortrag mit 
 dem Titel „Stille Entzündungen – Die unsichtbare Gefahr“ ein. \n\n 
  Wann: 13.11.24 um 19:30 Uhr\n  Wo:   Veranstaltungsort\n\nIn diesem Vortr
 ag erfahren Sie\, was stille Entzündungen sind\, welche Risiken sie für 
 unsere Gesundheit darstellen und wie wir ihnen entgegenwirken können. Uns
 er Referent\, Josef Strohmayer\, wird Sie durch die Thematik führen und w
 ertvolle Einblicke geben.\n\nNutzen Sie die Gelegenheit\, Fragen zu stelle
 n und mit Gleichgesinnten ins Gespräch zu kommen. \n\nWir freuen uns auf 
 Ihr Kommen\, https://teamcalendar.eu/events/stille-entzuendungen-die-unsic
 htbare-gefahr-88/ical/
CATEGORIES:Health Event
LOCATION:Vitalis\, Mobil-Oil-Straße 29A\, Ampfing\, Bayern \, 84539\, Deut
 schland
GEO:48.2513;12.4064
X-APPLE-STRUCTURED-LOCATION;VALUE=URI;X-ADDRESS=Mobil-Oil-Straße 29A\, Amp
 fing\, Bayern \, 84539\, Deutschland;X-APPLE-RADIUS=100;X-TITLE=Vitalis:ge
 o:48.2513,12.4064
END:VEVENT
BEGIN:VTIMEZONE
TZID:Europe/Vienna
X-LIC-LOCATION:Europe/Vienna
BEGIN:STANDARD
DTSTART:20241027T020000
TZOFFSETFROM:+0200
TZOFFSETTO:+0100
TZNAME:CET
END:STANDARD
END:VTIMEZONE
END:VCALENDAR