BEGIN:VCALENDAR
VERSION:2.0
PRODID:-//wp-events-plugin.com//6.4.7.3//EN
TZID:Europe/Vienna
X-WR-TIMEZONE:Europe/Vienna
BEGIN:VEVENT
UID:2382@teamcalendar.eu
DTSTART;TZID=Europe/Vienna:20250327T190000
DTEND;TZID=Europe/Vienna:20250327T203000
DTSTAMP:20250324T105701Z
URL:https://teamcalendar.eu/events/stille-entzuendung-die-unsichtbare-gefa
 hr-vortrag-mit-dr-uwe-rascher/
SUMMARY:Graz/Raaba\, Stille Entzündung – die unsichtbare Gefahr!
DESCRIPTION:Welchen Einfluss haben stille Entzündungen auf deine allgemein
 e Gesundheit\, dein Gewicht und den Alterungsprozess?\n\nWusstest du\, das
 s viele chronische Erkrankungen und Beschwerden denselben Ursprung haben? 
 Stille Entzündungen können unbemerkt deine Gesundheit stark beeinträcht
 igen – doch du kannst aktiv dagegensteuern. Erfahre in diesem spannenden
  Fachvortrag von Dr. med. univ. Uwe Rascher (Arzt für Allgemeinmedizin\, 
 Akupunktur\, Sportmedizin\, Ernährungsmedizin\, Orthomolekularmedizin)\, 
 wie stille Entzündungen entstehen\, welche Auswirkungen sie auf deine Ges
 undheit und den Stoffwechsel haben und wie du dich gezielt schützen kanns
 t.  \nNutze diese Gelegenheit für wertvolles Wissen und praktische Lösun
 gsansätze für deine Gesundheit! \, https://teamcalendar.eu/events/stille
 -entzuendung-die-unsichtbare-gefahr-vortrag-mit-dr-uwe-rascher/ical/
CATEGORIES:Produktvortrag
LOCATION:Technopark Raaba Konferenzraum "NEBUKATNEZAR"\, Dietrich Keller St
 raße 24\, Graz/Raaba\, Steiermark\, 8074\, Österreich
GEO:47.028034;15.486889
X-APPLE-STRUCTURED-LOCATION;VALUE=URI;X-ADDRESS=Dietrich Keller Straße 24\
 , Graz/Raaba\, Steiermark\, 8074\, Österreich;X-APPLE-RADIUS=100;X-TITLE=
 Technopark Raaba Konferenzraum \"NEBUKATNEZAR\":geo:47.028034,15.486889
END:VEVENT
BEGIN:VTIMEZONE
TZID:Europe/Vienna
X-LIC-LOCATION:Europe/Vienna
BEGIN:STANDARD
DTSTART:20241027T020000
TZOFFSETFROM:+0200
TZOFFSETTO:+0100
TZNAME:CET
END:STANDARD
END:VTIMEZONE
END:VCALENDAR