BEGIN:VCALENDAR
VERSION:2.0
PRODID:-//wp-events-plugin.com//6.4.7.3//EN
TZID:Europe/Vienna
X-WR-TIMEZONE:Europe/Vienna
BEGIN:VEVENT
UID:2652@teamcalendar.eu
DTSTART;TZID=Europe/Vienna:20250812T201500
DTEND;TZID=Europe/Vienna:20250812T211500
DTSTAMP:20250725T135148Z
URL:https://teamcalendar.eu/events/stille-entzuendung-die-unsichtbare-gefa
 hr-online-vortrag-2/
SUMMARY:\, Stille Entzündung - die unsichtbare Gefahr ! Online Vortrag
DESCRIPTION:Ist Ihnen bewusst\, dass fast alle Erkrankungen und Beschwerden
  den gleichen Ursprung haben? Mehr Informationen zu diesem Thema und vor a
 llem\, wie man sich schützen kann\, gibt es bei diesem Fachvortrag von Dr
 . med.univ. Uwe Rascher\, Arzt für Allgemeinmedizin\, Akupunktur\, Sportm
 edizin\, Ernährungsmedizin und Orthomolekularmedizin. \, https://teamcale
 ndar.eu/events/stille-entzuendung-die-unsichtbare-gefahr-online-vortrag-2/
 ical/
CATEGORIES:Produktvortrag
LOCATION:https://us02web.zoom.us/j/88212894575?pwd=bQB4fdJsZu47Xw8oyeLbn1nb
 aWy2eJ.1#success
END:VEVENT
BEGIN:VTIMEZONE
TZID:Europe/Vienna
X-LIC-LOCATION:Europe/Vienna
BEGIN:DAYLIGHT
DTSTART:20250330T030000
TZOFFSETFROM:+0100
TZOFFSETTO:+0200
TZNAME:CEST
END:DAYLIGHT
END:VTIMEZONE
END:VCALENDAR