BEGIN:VCALENDAR
VERSION:2.0
PRODID:-//wp-events-plugin.com//6.4.7.3//EN
TZID:Europe/Vienna
X-WR-TIMEZONE:Europe/Vienna
BEGIN:VEVENT
UID:2214@teamcalendar.eu
DTSTART;TZID=Europe/Vienna:20241022T193000
DTEND;TZID=Europe/Vienna:20241022T210000
DTSTAMP:20241021T165619Z
URL:https://teamcalendar.eu/events/stille-entzuendung-die-unsichtbare-gefa
 hr-83/
SUMMARY:Klagenfurt\, Stille Entzündung - die unsichtbare Gefahr !
DESCRIPTION:Wie Bewegung und Stoffwechsel aus Sicht der Physiotherapie zusa
 mmenhängen und welche wichtige Rolle dabei gesunde Zellen spielen\, erfah
 ren Sie im Fachvortrag von Werner Häfele\, Physiotherapeut &amp\; Christi
 ne Häfele\, Physiotherapeutin und Yogalehrerin.\, https://teamcalendar.eu
 /events/stille-entzuendung-die-unsichtbare-gefahr-83/ical/
ATTACH;FMTTYPE=image/jpeg:https://teamcalendar.eu/wp-content/uploads/2024/
 10/7.jpg
CATEGORIES:Produktvortrag
LOCATION:Physiozentrum apfelbaum\, Durchlaßstraße 42\, Klagenfurt\, Kärn
 ten\, 9020\, Österreich
GEO:46.635613;14.316651
X-APPLE-STRUCTURED-LOCATION;VALUE=URI;X-ADDRESS=Durchlaßstraße 42\, Klage
 nfurt\, Kärnten\, 9020\, Österreich;X-APPLE-RADIUS=100;X-TITLE=Physiozen
 trum apfelbaum:geo:46.635613,14.316651
END:VEVENT
BEGIN:VTIMEZONE
TZID:Europe/Vienna
X-LIC-LOCATION:Europe/Vienna
BEGIN:DAYLIGHT
DTSTART:20240331T030000
TZOFFSETFROM:+0100
TZOFFSETTO:+0200
TZNAME:CEST
END:DAYLIGHT
END:VTIMEZONE
END:VCALENDAR