BEGIN:VCALENDAR
VERSION:2.0
PRODID:-//wp-events-plugin.com//6.4.7.3//EN
TZID:Europe/Vienna
X-WR-TIMEZONE:Europe/Vienna
BEGIN:VEVENT
UID:2291@teamcalendar.eu
DTSTART;TZID=Europe/Vienna:20250107T193000
DTEND;TZID=Europe/Vienna:20250107T210000
DTSTAMP:20250102T200653Z
URL:https://teamcalendar.eu/events/stille-entzuendung-die-unsichtbare-gefa
 hr-8/
SUMMARY:Klagenfurt\, Stille Entzündung - die unsichtbare Gefahr !
DESCRIPTION:Ist Ihnen bewusst\, dass fast alle Erkrankungen und Beschwerden
  den gleichen Ursprung haben? Mehr Informationen zu diesem Thema und vor a
 llem\, wie man sich schützen kann\, gibt es bei diesem Fachvortrag mit Sc
 hwerpunkt "GESUND ABNEHMEN-Gewichtsmanagement mit Omega-3" von Dr. med.uni
 v. Uwe Rascher\, Arzt für Allgemeinmedizin\, Akupunktur\, Sportmedizin\, 
 Ernährungsmedizin und Orthomolekularmedizin. \, https://teamcalendar.eu/e
 vents/stille-entzuendung-die-unsichtbare-gefahr-8/ical/
ATTACH;FMTTYPE=image/jpeg:https://teamcalendar.eu/wp-content/uploads/2025/
 01/Uwe-Rascher-Gewichtsmanagement.jpg
CATEGORIES:Produktvortrag
LOCATION:Physiozentrum apfelbaum\, Durchlaßstraße 42\, Klagenfurt\, Kärn
 ten\, 9020\, Österreich
GEO:46.635613;14.316651
X-APPLE-STRUCTURED-LOCATION;VALUE=URI;X-ADDRESS=Durchlaßstraße 42\, Klage
 nfurt\, Kärnten\, 9020\, Österreich;X-APPLE-RADIUS=100;X-TITLE=Physiozen
 trum apfelbaum:geo:46.635613,14.316651
END:VEVENT
BEGIN:VTIMEZONE
TZID:Europe/Vienna
X-LIC-LOCATION:Europe/Vienna
BEGIN:STANDARD
DTSTART:20241027T020000
TZOFFSETFROM:+0200
TZOFFSETTO:+0100
TZNAME:CET
END:STANDARD
END:VTIMEZONE
END:VCALENDAR