BEGIN:VCALENDAR
VERSION:2.0
PRODID:-//wp-events-plugin.com//6.4.7.3//EN
TZID:Europe/Vienna
X-WR-TIMEZONE:Europe/Vienna
BEGIN:VEVENT
UID:2245@teamcalendar.eu
DTSTART;TZID=Europe/Vienna:20241128T190000
DTEND;TZID=Europe/Vienna:20241128T203000
DTSTAMP:20241105T203140Z
URL:https://teamcalendar.eu/events/stille-entzuendung-die-unsichtbare-gefa
 hr-3/
SUMMARY:Villach\, Stille Entzündung - die unsichtbare Gefahr !
DESCRIPTION:Ist Ihnen bewußt\, dass fast alle Erkrankungen und Beschwerden
  den gleichen Ursprung haben? Mehr Informationen zu diesem Thema und vor a
 llem\, wie man sich schützen kann\, gibt es bei diesem Fachvortrag von Dr
 . med.univ. Uwe Rascher\, Arzt für Allgemeinmedizin\, Akupunktur\, Sportm
 edizin\, Ernährungsmedizin und Orthomolekularmedizin. \, https://teamcale
 ndar.eu/events/stille-entzuendung-die-unsichtbare-gefahr-3/ical/
ATTACH;FMTTYPE=image/jpeg:https://teamcalendar.eu/wp-content/uploads/2024/
 10/7.jpg
CATEGORIES:Produktvortrag
LOCATION:Kulturhaus Maria Gail\, Abstimmungsstraße 124\, Villach\, Kärnte
 n\, 9500\, Österreich
GEO:46.598815;13.881112
X-APPLE-STRUCTURED-LOCATION;VALUE=URI;X-ADDRESS=Abstimmungsstraße 124\, Vi
 llach\, Kärnten\, 9500\, Österreich;X-APPLE-RADIUS=100;X-TITLE=Kulturhau
 s Maria Gail:geo:46.598815,13.881112
END:VEVENT
BEGIN:VTIMEZONE
TZID:Europe/Vienna
X-LIC-LOCATION:Europe/Vienna
BEGIN:STANDARD
DTSTART:20241027T020000
TZOFFSETFROM:+0200
TZOFFSETTO:+0100
TZNAME:CET
END:STANDARD
END:VTIMEZONE
END:VCALENDAR