BEGIN:VCALENDAR
VERSION:2.0
PRODID:-//wp-events-plugin.com//6.4.7.3//EN
TZID:Europe/Vienna
X-WR-TIMEZONE:Europe/Vienna
BEGIN:VEVENT
UID:2642@teamcalendar.eu
DTSTART;TZID=Europe/Vienna:20250819T193000
DTEND;TZID=Europe/Vienna:20250819T210000
DTSTAMP:20250707T132235Z
URL:https://teamcalendar.eu/events/stille-entzuendung-die-unsichtbare-gefa
 hr-28/
SUMMARY:Klagenfurt\, Stille Entzündung - die unsichtbare Gefahr !
DESCRIPTION:Omega 3 Fettsäuren sind für die gesunde Entwicklung und Funkt
 ion jeder Körperzelle wichtig. Sie helfen bei einer Vielzahl von Erkranku
 ngen und können Therapien optimieren. Mehr Informationen zu diesem Thema 
 und vor allem\, wie man sich schützen kann\, erfahren Sie bei diesem Fach
 vortrag mit Schwerpunkt „Schmerzen in Wirbelsäule und Gelenken“ von C
 hristian Wolf\, Cranio Sacral- und TCM Therapeut.  \n\, https://teamcalend
 ar.eu/events/stille-entzuendung-die-unsichtbare-gefahr-28/ical/
ATTACH;FMTTYPE=image/jpeg:https://teamcalendar.eu/wp-content/uploads/2023/
 03/46-65334107.jpg
CATEGORIES:Produktvortrag
LOCATION:Physiozentrum apfelbaum\, Durchlaßstraße 42\, Klagenfurt\, Kärn
 ten\, 9020\, Österreich
GEO:46.635613;14.316651
X-APPLE-STRUCTURED-LOCATION;VALUE=URI;X-ADDRESS=Durchlaßstraße 42\, Klage
 nfurt\, Kärnten\, 9020\, Österreich;X-APPLE-RADIUS=100;X-TITLE=Physiozen
 trum apfelbaum:geo:46.635613,14.316651
END:VEVENT
BEGIN:VTIMEZONE
TZID:Europe/Vienna
X-LIC-LOCATION:Europe/Vienna
BEGIN:DAYLIGHT
DTSTART:20250330T030000
TZOFFSETFROM:+0100
TZOFFSETTO:+0200
TZNAME:CEST
END:DAYLIGHT
END:VTIMEZONE
END:VCALENDAR