BEGIN:VCALENDAR
VERSION:2.0
PRODID:-//wp-events-plugin.com//6.4.7.3//EN
TZID:Europe/Vienna
X-WR-TIMEZONE:Europe/Vienna
BEGIN:VEVENT
UID:2559@teamcalendar.eu
DTSTART;TZID=Europe/Vienna:20250527T190000
DTEND;TZID=Europe/Vienna:20250527T210000
DTSTAMP:20250507T112359Z
URL:https://teamcalendar.eu/events/stille-entzuendung-die-unsichtbare-gefa
 hr-20/
SUMMARY:Villach\, Stille Entzündung - die unsichtbare Gefahr !
DESCRIPTION:Ist Ihnen bewußt\, dass fast alle Erkrankungen und Beschwerden
  den gleichen Ursprung haben? Mehr Informationen zu diesem Thema und vor a
 llem\, wie man sich schützen kann\, gibt es bei diesem Fachvortrag mit Sc
 hwerpunkt "DARMGESUNDHEIT und HAUT" von Dr. med.univ. Uwe Rascher\, Arzt f
 ür Allgemeinmedizin\, Akupunktur\, Sportmedizin\, Ernährungsmedizin und 
 Orthomolekularmedizin. \, https://teamcalendar.eu/events/stille-entzuendun
 g-die-unsichtbare-gefahr-20/ical/
ATTACH;FMTTYPE=image/jpeg:https://teamcalendar.eu/wp-content/uploads/2024/
 10/7.jpg
CATEGORIES:Produktvortrag
LOCATION:novum\, Werner-Kofler-Straße 9\, Villach\, 9500\, Österreich
GEO:46.626103;13.820043
X-APPLE-STRUCTURED-LOCATION;VALUE=URI;X-ADDRESS=Werner-Kofler-Straße 9\, V
 illach\, 9500\, Österreich;X-APPLE-RADIUS=100;X-TITLE=novum:geo:46.626103
 ,13.820043
END:VEVENT
BEGIN:VTIMEZONE
TZID:Europe/Vienna
X-LIC-LOCATION:Europe/Vienna
BEGIN:DAYLIGHT
DTSTART:20250330T030000
TZOFFSETFROM:+0100
TZOFFSETTO:+0200
TZNAME:CEST
END:DAYLIGHT
END:VTIMEZONE
END:VCALENDAR