BEGIN:VCALENDAR
VERSION:2.0
PRODID:-//wp-events-plugin.com//6.4.7.3//EN
TZID:Europe/Vienna
X-WR-TIMEZONE:Europe/Vienna
BEGIN:VEVENT
UID:2369@teamcalendar.eu
DTSTART;TZID=Europe/Vienna:20250318T193000
DTEND;TZID=Europe/Vienna:20250318T210000
DTSTAMP:20250307T085232Z
URL:https://teamcalendar.eu/events/stille-entzuendung-die-unsichtbare-gefa
 hr-13/
SUMMARY:Klagenfurt\, Stille Entzündung - die unsichtbare Gefahr !
DESCRIPTION:Ist Ihnen bewußt\, dass fast alle Erkrankungen und Beschwerden
  den gleichen Ursprung haben? Mehr Informationen zu diesem Thema und vor a
 llem\, wie man sich schützen kann\, gibt es bei diesem Fachvortrag von Dr
 . med.univ. Uwe Rascher\, Arzt für Allgemeinmedizin\, Akupunktur\, Sportm
 edizin\, Ernährungsmedizin und Orthomolekularmedizin. \, https://teamcale
 ndar.eu/events/stille-entzuendung-die-unsichtbare-gefahr-13/ical/
CATEGORIES:Produktvortrag
LOCATION:Physiozentrum apfelbaum\, Durchlaßstraße 42\, Klagenfurt\, Kärn
 ten\, 9020\, Österreich
GEO:46.635613;14.316651
X-APPLE-STRUCTURED-LOCATION;VALUE=URI;X-ADDRESS=Durchlaßstraße 42\, Klage
 nfurt\, Kärnten\, 9020\, Österreich;X-APPLE-RADIUS=100;X-TITLE=Physiozen
 trum apfelbaum:geo:46.635613,14.316651
END:VEVENT
BEGIN:VTIMEZONE
TZID:Europe/Vienna
X-LIC-LOCATION:Europe/Vienna
BEGIN:STANDARD
DTSTART:20241027T020000
TZOFFSETFROM:+0200
TZOFFSETTO:+0100
TZNAME:CET
END:STANDARD
END:VTIMEZONE
END:VCALENDAR