BEGIN:VCALENDAR
VERSION:2.0
PRODID:-//wp-events-plugin.com//6.4.7.3//EN
TZID:Europe/Vienna
X-WR-TIMEZONE:Europe/Vienna
BEGIN:VEVENT
UID:2822@teamcalendar.eu
DTSTART;TZID=Europe/Vienna:20260324T201500
DTEND;TZID=Europe/Vienna:20260324T211500
DTSTAMP:20260226T175838Z
URL:https://teamcalendar.eu/events/stille-entzuendubg-die-unsichtbare-gefa
 hr/
SUMMARY:\, Stille Entzündung- die unsichtbare Gefahr
DESCRIPTION:Ist Ihnen bewusst\, dass fast alle Erkrankungen und Beschwerden
  den gleichen Ursprung haben? Mehr Informationen zu diesem Thema und vor a
 llem\, wie man sich schützen kann\, gibt es bei diesem Fachvortrag von Dr
 . med.univ. Uwe Rascher\, Arzt für Allgemeinmedizin\, Akupunktur\, Sportm
 edizin\, Ernährungsmedizin und Orthomolekularmedizin\, https://teamcalend
 ar.eu/events/stille-entzuendubg-die-unsichtbare-gefahr/ical/
ATTACH;FMTTYPE=image/jpeg:https://teamcalendar.eu/wp-content/uploads/2023/
 03/46-65334107.jpg
CATEGORIES:Online
LOCATION:https://us02web.zoom.us/j/81076343294%20
END:VEVENT
BEGIN:VTIMEZONE
TZID:Europe/Vienna
X-LIC-LOCATION:Europe/Vienna
BEGIN:STANDARD
DTSTART:20251026T020000
TZOFFSETFROM:+0200
TZOFFSETTO:+0100
TZNAME:CET
END:STANDARD
END:VTIMEZONE
END:VCALENDAR