BEGIN:VCALENDAR
VERSION:2.0
PRODID:-//wp-events-plugin.com//6.4.7.3//EN
TZID:Europe/Vienna
X-WR-TIMEZONE:Europe/Vienna
BEGIN:VEVENT
UID:2541@teamcalendar.eu
DTSTART;TZID=Europe/Vienna:20250416T200000
DTEND;TZID=Europe/Vienna:20250416T210000
DTSTAMP:20250409T122859Z
URL:https://teamcalendar.eu/events/special-eqology-online-business-opportu
 nity-meeting-mit-borre-gjersvik/
SUMMARY:\, Special EQOLOGY Online Business Opportunity Meeting mit Borre Gj
 ersvik
DESCRIPTION:📅 Termin: 16. April um 20 Uhr\n🌐 Ort: Online mit deutsche
 r Übersetzung.\nEntdecke die Chancen mit Eqology – und gestalte deine Z
 ukunft selbst!\n\nWir laden dich herzlich zu einem inspirierenden Online-E
 vent ein\, das dein Denken verändern und neue Perspektiven eröffnen kann
 !\n\nIn dieser exklusiven Live-Präsentation mit Børre Gjersvik\, dem Chi
 ef Visionary Officer von Eqology\, erfährst du:\n\n🔹 Wie du deine eige
 ne Gesundheit** mit hochwertigen Omega-3-Gesundheitskonzeptern nachhaltig 
 unterstützen kannst.  \n🔹 Wie du dir ein attraktives\, flexibles Einko
 mmen mit freier Zeiteinteilung aufbauen kannst. \n🔹 Wie du Teil eines w
 ertebasierten Netzwerks wirst\, das persönliches Wachstum\, Weiterbildung
  und echte Sinnhaftigkeit in den Mittelpunkt stellt.  \n\nEin besonderes E
 vent für alle\, die mehr vom Leben wollen – mehr Gesundheit\, mehr Frei
 heit\, mehr Geld.  \nMach den ersten Schritt – wir freuen uns auf dich!\
 , https://teamcalendar.eu/events/special-eqology-online-business-opportuni
 ty-meeting-mit-borre-gjersvik/ical/
CATEGORIES:Geschäftspräsentation,Online
LOCATION:https://us06web.zoom.us/j/82226364426?pwd=NAdl55LGWcvnh1zZ7weHZDCv
 y7e1Va.1&fbclid=IwY2xjawJjRXJleHRuA2FlbQIxMAABHvCpVCXCKPGJi5qHKMZCUIXBt9Hx
 yk8AF98T6ttPOs3EJd9VnTAc6NMz77xV_aem_PWPDhwlTIvNsylEVd31-lg#success
END:VEVENT
BEGIN:VTIMEZONE
TZID:Europe/Vienna
X-LIC-LOCATION:Europe/Vienna
BEGIN:DAYLIGHT
DTSTART:20250330T030000
TZOFFSETFROM:+0100
TZOFFSETTO:+0200
TZNAME:CEST
END:DAYLIGHT
END:VTIMEZONE
END:VCALENDAR