BEGIN:VCALENDAR
VERSION:2.0
PRODID:-//wp-events-plugin.com//6.4.7.3//EN
TZID:Europe/Vienna
X-WR-TIMEZONE:Europe/Vienna
BEGIN:VEVENT
UID:2174@teamcalendar.eu
DTSTART;TZID=Europe/Vienna:20241122T193000
DTEND;TZID=Europe/Vienna:20241122T210000
DTSTAMP:20241116T142944Z
URL:https://teamcalendar.eu/events/schwangerschaft-und-omega-3-was-muss-ic
 h-als-hebamme-wissen/
SUMMARY:Salzburg\, Was muss ich über Schwangerschaft und Omega 3 wissen?
DESCRIPTION:Seit Jahrzehnten ist Omega 3 ein Thema in der Schwangerschaft u
 nd Stillzeit - was sind aber tatsächlich die Fakten? Wie wirken sich Supp
 lemente auf das Ungeborene und auf die Schwangere aus? Was sind die Auswir
 kungen auf Frühgeburt und Präklampsie? Wie wirkt Omega 3 bei Kinderwunsc
 h? In diesem Vortrag\, der sich vor allem an Personen aus den Gesundheitsb
 erufen wendet\, wird Dr.Zuchna auf die Basis der Funktion von Omega 3 Fett
 säuren und viele interessante Fakten rund um das Thema eingehen. Wir habe
 n auch die Möglichkeit das Omega 3 Öl von EQ zu verkosten. \, https://te
 amcalendar.eu/events/schwangerschaft-und-omega-3-was-muss-ich-als-hebamme-
 wissen/ical/
CATEGORIES:Produktvortrag
LOCATION:Mesnerhaus Liefering\, Lieferinger Hauptstrasse 106\, Salzburg\, S
 alzburg\, 5020\, Österreich
GEO:47.823644;13.009656
X-APPLE-STRUCTURED-LOCATION;VALUE=URI;X-ADDRESS=Lieferinger Hauptstrasse 10
 6\, Salzburg\, Salzburg\, 5020\, Österreich;X-APPLE-RADIUS=100;X-TITLE=Me
 snerhaus Liefering:geo:47.823644,13.009656
END:VEVENT
BEGIN:VTIMEZONE
TZID:Europe/Vienna
X-LIC-LOCATION:Europe/Vienna
BEGIN:STANDARD
DTSTART:20241027T020000
TZOFFSETFROM:+0200
TZOFFSETTO:+0100
TZNAME:CET
END:STANDARD
END:VTIMEZONE
END:VCALENDAR