BEGIN:VCALENDAR
VERSION:2.0
PRODID:-//wp-events-plugin.com//6.4.7.3//EN
TZID:Europe/Vienna
X-WR-TIMEZONE:Europe/Vienna
BEGIN:VEVENT
UID:507@teamcalendar.eu
DTSTART;TZID=Europe/Vienna:20250609T200000
DTEND;TZID=Europe/Vienna:20250609T204500
DTSTAMP:20250602T154705Z
URL:https://teamcalendar.eu/events/online-teamtraining-2025-06-09/
SUMMARY:\, Online Teamtraining - COMPLIANCE Infos
DESCRIPTION:Wichtige Info für dich!\nUnser Head of Elite Support\, Justyna
  Ciesielska  gibt dir bei diesem Compliance-Training genau das Wissen\, da
 s du unbedingt brauchst\, um sicher und erfolgreich durchzustarten.\nKurz\
 , klar und unverzichtbar – sei unbedingt dabei!\, https://teamcalendar.e
 u/events/online-teamtraining-2025-06-09/ical/
CATEGORIES:Teamtraining
LOCATION:https://us02web.zoom.us/j/84977934419
END:VEVENT
BEGIN:VTIMEZONE
TZID:Europe/Vienna
X-LIC-LOCATION:Europe/Vienna
BEGIN:DAYLIGHT
DTSTART:20250330T030000
TZOFFSETFROM:+0100
TZOFFSETTO:+0200
TZNAME:CEST
END:DAYLIGHT
END:VTIMEZONE
END:VCALENDAR