BEGIN:VCALENDAR
VERSION:2.0
PRODID:-//wp-events-plugin.com//6.4.7.3//EN
TZID:Europe/Vienna
X-WR-TIMEZONE:Europe/Vienna
BEGIN:VEVENT
UID:2274@teamcalendar.eu
DTSTART;TZID=Europe/Vienna:20241218T180000
DTEND;TZID=Europe/Vienna:20241218T190000
DTSTAMP:20241216T103633Z
URL:https://teamcalendar.eu/events/online-health-event-warum-omega3-fettsa
 euren-fuer-unsere-gesundheit-so-wichtig-sind/
SUMMARY:\, online Health Event - Im Winter gesund bleiben mit Omega3 und Vi
 tamin K2/D3
DESCRIPTION:Entdecken Sie mit Sandra Ruhaltinger\, Biologin und Heilmasseur
 in\, die verborgene Welt der menschlichen Zellen im Körper. Erfahren Sie 
 mehr wie Sie gerade im Winter von den Nährstoffen Omega-3 Fettsäuren und
  Vitamin K2/D3 profitieren und somit für Ihr Wohlbefinden beitragen. Wir 
 laden Sie herzlich ein\, sich diesen Vortrag anzuhören und die Bedeutung 
 von Omega-3 \n* für die Bekämpfung stiller Entzündungen \n* für die Au
 fnahme von Vitaminen\n* für die Vorbeugung von Herz-Kreislauferkrankungen
  \n\nkennen zu lernen. \n \, https://teamcalendar.eu/events/online-health-
 event-warum-omega3-fettsaeuren-fuer-unsere-gesundheit-so-wichtig-sind/ical
 /
CATEGORIES:Health Event
LOCATION:https://us06web.zoom.us/j/81447572321?pwd=whZaDuPFvAwERDECrlGpES2Y
 4bBDWm.1
END:VEVENT
BEGIN:VTIMEZONE
TZID:Europe/Vienna
X-LIC-LOCATION:Europe/Vienna
BEGIN:STANDARD
DTSTART:20241027T020000
TZOFFSETFROM:+0200
TZOFFSETTO:+0100
TZNAME:CET
END:STANDARD
END:VTIMEZONE
END:VCALENDAR