BEGIN:VCALENDAR
VERSION:2.0
PRODID:-//wp-events-plugin.com//6.4.7.3//EN
TZID:Europe/Vienna
X-WR-TIMEZONE:Europe/Vienna
BEGIN:VEVENT
UID:2217@teamcalendar.eu
DTSTART;TZID=Europe/Vienna:20241029T200000
DTEND;TZID=Europe/Vienna:20241029T210000
DTSTAMP:20241022T203738Z
URL:https://teamcalendar.eu/events/online-health-event-warum-omega3-fettsa
 euren-fuer-unsere-gesundheit-so-wichtig-sind-3/
SUMMARY:\, online Health Event - Warum Omega3 Fettsäuren für unsere Gesun
 dheit so wichtig sind
DESCRIPTION:Entdecken Sie die verborgene Welt der menschlichen Zellen im K
 örper und erfahren Sie mehr über die transformative Kraft von Omega-3 f
 ür die Zellen und somit für Ihr Wohlbefinden. Wir laden Sie herzlich ein
 \, sich mit uns auf eine Reise zu begeben\, auf der wir die Bedeutung von 
 Omega-3 \n* für die Bekämpfung stiller Entzündungen \n* für die Aufnah
 me von Vitaminen\n* für die Vorbeugung von Herz-Kreislauferkrankungen \n\
 nerkunden werden. Erfahren Sie\, wie diese essentiellen Fettsäuren dazu b
 eitragen können Vital im Kopf\, Herz und Darm zu bleiben! \, https://team
 calendar.eu/events/online-health-event-warum-omega3-fettsaeuren-fuer-unser
 e-gesundheit-so-wichtig-sind-3/ical/
CATEGORIES:Health Event
LOCATION:https://us06web.zoom.us/j/86450189121?pwd=gURaMRwOHDbOUbfzcwxpdcLF
 dJGMIm.1
END:VEVENT
BEGIN:VTIMEZONE
TZID:Europe/Vienna
X-LIC-LOCATION:Europe/Vienna
BEGIN:STANDARD
DTSTART:20241027T020000
TZOFFSETFROM:+0200
TZOFFSETTO:+0100
TZNAME:CET
END:STANDARD
END:VTIMEZONE
END:VCALENDAR