BEGIN:VCALENDAR
VERSION:2.0
PRODID:-//wp-events-plugin.com//6.4.7.3//EN
TZID:Europe/Vienna
X-WR-TIMEZONE:Europe/Vienna
BEGIN:VEVENT
UID:2671@teamcalendar.eu
DTSTART;TZID=Europe/Vienna:20250903T200000
DTEND;TZID=Europe/Vienna:20250924T210000
DTSTAMP:20250901T174455Z
URL:https://teamcalendar.eu/events/online-eq-health-conversations-business
 -opportunity-meetings-september/
SUMMARY:\, Online EQ Health Conversations + Business Opportunity Meetings S
 eptember
DESCRIPTION:Health Conversation startet am  Mittwoch\, 3. September\, 20:00
  Uhr auf dem YouTube-Kanal von Eqology.\nThema Kollagen.\n\nBOM Live-Sessi
 ons: jeden 2.\, 3. &amp\; 4. Mittwoch im Monat!\n\nAb September finden die
  Webinare jeden Mittwoch direkt auf dem Eqology YouTube-Kanal statt.\n👉
  Gleich den Kanal abonnieren und dabei sein!\n\nhttps://www.youtube.com/@o
 fficialeqology\n\nWeitere Details im Bild.\, https://teamcalendar.eu/event
 s/online-eq-health-conversations-business-opportunity-meetings-september/i
 cal/
CATEGORIES:Geschäftspräsentation,Online,Sonstige
END:VEVENT
BEGIN:VTIMEZONE
TZID:Europe/Vienna
X-LIC-LOCATION:Europe/Vienna
BEGIN:DAYLIGHT
DTSTART:20250330T030000
TZOFFSETFROM:+0100
TZOFFSETTO:+0200
TZNAME:CEST
END:DAYLIGHT
END:VTIMEZONE
END:VCALENDAR