BEGIN:VCALENDAR
VERSION:2.0
PRODID:-//wp-events-plugin.com//6.4.7.3//EN
TZID:Europe/Vienna
X-WR-TIMEZONE:Europe/Vienna
BEGIN:VEVENT
UID:2514@teamcalendar.eu
DTSTART;TZID=Europe/Vienna:20250626T190000
DTEND;TZID=Europe/Vienna:20250626T200000
DTSTAMP:20250625T101639Z
URL:https://teamcalendar.eu/events/online-business-opportunity-event-lerne
 -die-geschaeftsmoeglichkeit-mit-eqology-kennen-2025-06-26/
SUMMARY:\, Online Business Opportunity Webinar – Lerne die Geschäftsmög
 lichkeit mit EQOLOGY kennen
DESCRIPTION:🌿 Entdecke die Chancen mit Eqology – und gestalte deine Zu
 kunft selbst!\n\nBei unserem Online-Webinar bekommst du einen ersten Einbl
 ick in eine Business-Chance\, die echte Gesundheit\, nachhaltiges Wachstum
  und persönliche Freiheit verbindet.\n\nErfahre\, wie du mit hochwertigen
  Omega-3-Produkten aus dem arktischen Meer 🌊 nicht nur deine Gesundheit
  optimieren kannst – sondern dir gleichzeitig ein sinnstiftendes Einkomm
 en aufbauen kannst.\n\n🔹 Wissenschaftlich fundierte\, testbasierte Gesu
 ndheitslösung\n🔹 100 % natürliches Omega-3 aus nachhaltiger Fischer
 ei\n🔹 Attraktive Einkommensmöglichkeiten im Network Marketing 💼\n
 🔹 Persönliche Weiterentwicklung mit einem starken Team\n🔹 Flexibles
  Arbeiten – wann &amp\; wo du willst\n\n🔍 Finde heraus\, ob Eqology d
 eine Lösung sein könnte – für mehr Gesundheit\, mehr Freiheit und neu
 e Perspektiven in deinem Leben.\n\n🩵 Sei dabei und erfahre alles\, was 
 du wissen musst!\n\, https://teamcalendar.eu/events/online-business-opport
 unity-event-lerne-die-geschaeftsmoeglichkeit-mit-eqology-kennen-2025-06-26
 /ical/
CATEGORIES:Geschäftspräsentation,Online
LOCATION:https://vimeo.com/event/5219776/39b1f81ccc
END:VEVENT
BEGIN:VTIMEZONE
TZID:Europe/Vienna
X-LIC-LOCATION:Europe/Vienna
BEGIN:DAYLIGHT
DTSTART:20250330T030000
TZOFFSETFROM:+0100
TZOFFSETTO:+0200
TZNAME:CEST
END:DAYLIGHT
END:VTIMEZONE
END:VCALENDAR