BEGIN:VCALENDAR
VERSION:2.0
PRODID:-//wp-events-plugin.com//6.4.7.3//EN
TZID:Europe/Vienna
X-WR-TIMEZONE:Europe/Vienna
BEGIN:VEVENT
UID:2401@teamcalendar.eu
DTSTART;TZID=Europe/Vienna:20250312T180000
DTEND;TZID=Europe/Vienna:20250312T190000
DTSTAMP:20250312T165025Z
URL:https://teamcalendar.eu/events/online-12-maerz-18-uhr-aelter-werden-oh
 ne-alt-zu-sein-mit-omega3-fettsaeuren/
SUMMARY:\, Älter werden - ohne Alt zu sein mit Omega3 Fettsäuren
DESCRIPTION:Erfahren Sie\, wie Omega-3-Fettsäuren dazu beitragen können\,
  Entzündungen im Körper zu reduzieren und somit die Gesundheit und das g
 esunde Altern ganzheitlich zu fördern. In diesem Vortrag beleuchten wir d
 ie Zusammenhänge zwischen Ernährung\, entzündlichen Prozessen\, dem Alt
 ern und langfristigem Wohlbefinden. Praktische Tipps inklusive!\, https://
 teamcalendar.eu/events/online-12-maerz-18-uhr-aelter-werden-ohne-alt-zu-se
 in-mit-omega3-fettsaeuren/ical/
ATTACH;FMTTYPE=image/jpeg:https://teamcalendar.eu/wp-content/uploads/2023/
 03/AdobeStock_220793275-scaled.jpeg
CATEGORIES:Produktvortrag
LOCATION:https://www.google.com/url?q=https://us06web.zoom.us/j/85853284332
 ?pwd%3DSSeEi5nTT8FISKTgKMNuIeH9okBlxC.1&sa=D&source=calendar&usd=2&usg=AOv
 Vaw2Dk4IJxpBXCse259Fc5LzP
END:VEVENT
BEGIN:VTIMEZONE
TZID:Europe/Vienna
X-LIC-LOCATION:Europe/Vienna
BEGIN:STANDARD
DTSTART:20241027T020000
TZOFFSETFROM:+0200
TZOFFSETTO:+0100
TZNAME:CET
END:STANDARD
END:VTIMEZONE
END:VCALENDAR