BEGIN:VCALENDAR
VERSION:2.0
PRODID:-//wp-events-plugin.com//6.4.7.3//EN
TZID:Europe/Vienna
X-WR-TIMEZONE:Europe/Vienna
BEGIN:VEVENT
UID:2826@teamcalendar.eu
DTSTART;TZID=Europe/Vienna:20260326T200000
DTEND;TZID=Europe/Vienna:20260326T210000
DTSTAMP:20260323T090818Z
URL:https://teamcalendar.eu/events/omega-3-von-1-bis-99/
SUMMARY:\, Omega-3 von -1 bis 99
DESCRIPTION:Omega-3 als Selbstverständlichkeit und Normalität in der Allt
 agsküche!\nErfahre\, warum Omega-3 die Gesundheit und Lebensqualität in 
 jeder Lebensphase unvermeidbar verbessert und warum das auch dich betrifft
 !\nFür mehr Leichtigkeit für dich und deine Großfamilie!\, https://team
 calendar.eu/events/omega-3-von-1-bis-99/ical/
ATTACH;FMTTYPE=image/jpeg:https://teamcalendar.eu/wp-content/uploads/2026/
 03/Healthy-Aging-online-ohne-Typen-1-1.jpeg
CATEGORIES:Online,Produktvortrag
LOCATION:https://us02web.zoom.us/j/89589481897
END:VEVENT
BEGIN:VTIMEZONE
TZID:Europe/Vienna
X-LIC-LOCATION:Europe/Vienna
BEGIN:STANDARD
DTSTART:20251026T020000
TZOFFSETFROM:+0200
TZOFFSETTO:+0100
TZNAME:CET
END:STANDARD
END:VTIMEZONE
END:VCALENDAR