BEGIN:VCALENDAR
VERSION:2.0
PRODID:-//wp-events-plugin.com//6.4.7.3//EN
TZID:Europe/Vienna
X-WR-TIMEZONE:Europe/Vienna
BEGIN:VEVENT
UID:2292@teamcalendar.eu
DTSTART;TZID=Europe/Vienna:20250110T190000
DTEND;TZID=Europe/Vienna:20250110T210000
DTSTAMP:20250102T193331Z
URL:https://teamcalendar.eu/events/omega-3-und-schwangerschaft-was-muss-ic
 h-wissen-2/
SUMMARY:Oberndorf bei Salzburg\, Omega 3 und Schwangerschaft - Was muss ich
  wissen?
DESCRIPTION:Seit Jahrzehnten ist Omega 3 ein Thema in der Schwangerschaft u
 nd Stillzeit - was sind aber tatsächlich die Fakten? Wie wirken sich Supp
 lemente auf das Ungeborene und auf die Schwangere aus? Was sind die Auswir
 kungen auf Frühgeburt und Präklampsie? Wie wirkt Omega 3 bei Kinderwunsc
 h? In diesem Vortrag werden Dr.Irene Heschl-Koller (Orthomolekularmedizine
 rin und Gynäkologin) und Dr.Christian Zuchna (Gynäkologe und Geburtshelf
 er) gemeinsam auf die Basis der Funktion von Omega 3 Fettsäuren und viele
  interessante Fakten rund um das Thema eingehen. Wir haben auch die Mögli
 chkeit das Omega 3 Öl von EQ zu verkosten. Achtung: nur 20 Plätze verfü
 gbar!\, https://teamcalendar.eu/events/omega-3-und-schwangerschaft-was-mus
 s-ich-wissen-2/ical/
CATEGORIES:Produktvortrag
LOCATION:Ordination Dr Christian Zuchna\, Franz Xaver Grimm Strasse 6\, Obe
 rndorf bei Salzburg\, 5110\, Österreich
GEO:47.941134;12.943733
X-APPLE-STRUCTURED-LOCATION;VALUE=URI;X-ADDRESS=Franz Xaver Grimm Strasse 6
 \, Oberndorf bei Salzburg\, 5110\, Österreich;X-APPLE-RADIUS=100;X-TITLE=
 Ordination Dr Christian Zuchna:geo:47.941134,12.943733
END:VEVENT
BEGIN:VTIMEZONE
TZID:Europe/Vienna
X-LIC-LOCATION:Europe/Vienna
BEGIN:STANDARD
DTSTART:20241027T020000
TZOFFSETFROM:+0200
TZOFFSETTO:+0100
TZNAME:CET
END:STANDARD
END:VTIMEZONE
END:VCALENDAR