BEGIN:VCALENDAR
VERSION:2.0
PRODID:-//wp-events-plugin.com//6.4.7.3//EN
TZID:Europe/Vienna
X-WR-TIMEZONE:Europe/Vienna
BEGIN:VEVENT
UID:2030@teamcalendar.eu
DTSTART;TZID=Europe/Vienna:20250628T100000
DTEND;TZID=Europe/Vienna:20250628T170000
DTSTAMP:20250502T181143Z
URL:https://teamcalendar.eu/events/nwm-unplugged-2025/
SUMMARY:Salzburg\, Network Marketing Unplugged 2025
DESCRIPTION:Beim Network Marketing Unplugged gibt's für dich und dein Team
  einen Tag lang Training\, Inspiration und viele Inputs\, damit du dein Eq
 ology Geschäft mit Elan und Know-How auch im Sommer vorantreiben kannst.\
 n\n1 Tag voller Fokus\nTermin: Samstag\, 28. Juni 2025\nUhrzeit: von 10:00
 -17:00\n\nPreise: \nKick-Off Event-Promo: 47 EUR (bis MO\, 13.01.2025 23:5
 9)\nEarly Bird: 64 EUR (bis MI\, 30.04.2025 23:59)\nNormalpreis: 74 EUR\n\
 nKEIN Mittagessen inkludiert!\n\nTickets gibt's hier: \, https://teamcalen
 dar.eu/events/nwm-unplugged-2025/ical/
CATEGORIES:Regionales Event,Teamtraining
LOCATION:Wyndham Grand Salzburg Conference Centre\, Fanny-von-Lehnert-Stra
 ße 7\, Salzburg\, Salzburg\, 5020\, Österreich
GEO:47.815342;13.043447
X-APPLE-STRUCTURED-LOCATION;VALUE=URI;X-ADDRESS=Fanny-von-Lehnert-Straße 7
 \, Salzburg\, Salzburg\, 5020\, Österreich;X-APPLE-RADIUS=100;X-TITLE=Wyn
 dham Grand Salzburg Conference Centre:geo:47.815342,13.043447
END:VEVENT
BEGIN:VTIMEZONE
TZID:Europe/Vienna
X-LIC-LOCATION:Europe/Vienna
BEGIN:DAYLIGHT
DTSTART:20250330T030000
TZOFFSETFROM:+0100
TZOFFSETTO:+0200
TZNAME:CEST
END:DAYLIGHT
END:VTIMEZONE
END:VCALENDAR