BEGIN:VCALENDAR
VERSION:2.0
PRODID:-//wp-events-plugin.com//6.4.7.3//EN
TZID:Europe/Vienna
X-WR-TIMEZONE:Europe/Vienna
BEGIN:VEVENT
UID:2601@teamcalendar.eu
DTSTART;TZID=Europe/Vienna:20250702T183000
DTEND;TZID=Europe/Vienna:20250702T193000
DTSTAMP:20250604T131235Z
URL:https://teamcalendar.eu/events/kleine-veraenderungen-grosse-wirkung-ge
 sundheit-beginnt-im-alltag/
SUMMARY:Kobenz\, Kleine Veränderungen - große Wirkung\; Gesundheit beginn
 t im Alltag!
DESCRIPTION:Kleine\, gezielte Veränderungen können große Wirkung entfalt
 en!\nNeueste Erkenntnisse der Zellgesundheit zeigen\, wie Bewegung\, Ernä
 hrung\, ausgewählte Nährstoffe wie Omega3\, Vitamin K2/D3 uvm. und bewus
 ste Gewohnheiten unsere Lebensqualität langfristig verbessern.\nDurch pra
 ktische und alltagstaugliche Impulse schaffen wir es auf natürliche Weise
  unseren Körper zu stärken\, Alterungsprozesse zu verlangsamen und Vital
 ität bis ins hohe Alter zu erhalten.\n\n\n \n\n\, https://teamcalendar.eu
 /events/kleine-veraenderungen-grosse-wirkung-gesundheit-beginnt-im-alltag/
 ical/
CATEGORIES:Produktvortrag
LOCATION:Rainer's Gasthaus und Bar\, Marktplatz 2\, Kobenz\, Steiermark\, 8
 723\, Österreich
GEO:47.246872;14.84498
X-APPLE-STRUCTURED-LOCATION;VALUE=URI;X-ADDRESS=Marktplatz 2\, Kobenz\, Ste
 iermark\, 8723\, Österreich;X-APPLE-RADIUS=100;X-TITLE=Rainer's Gasthaus 
 und Bar:geo:47.246872,14.84498
END:VEVENT
BEGIN:VTIMEZONE
TZID:Europe/Vienna
X-LIC-LOCATION:Europe/Vienna
BEGIN:DAYLIGHT
DTSTART:20250330T030000
TZOFFSETFROM:+0100
TZOFFSETTO:+0200
TZNAME:CEST
END:DAYLIGHT
END:VTIMEZONE
END:VCALENDAR