BEGIN:VCALENDAR
VERSION:2.0
PRODID:-//wp-events-plugin.com//6.4.7.3//EN
TZID:Europe/Vienna
X-WR-TIMEZONE:Europe/Vienna
BEGIN:VEVENT
UID:2573@teamcalendar.eu
DTSTART;TZID=Europe/Vienna:20250610T190000
DTEND;TZID=Europe/Vienna:20250610T200000
DTSTAMP:20250610T113817Z
URL:https://teamcalendar.eu/events/insulinresistenz-die-stille-epidemie/
SUMMARY:\, Insulinresistenz- die stille Epidemie
DESCRIPTION:Insulinresistenz betrifft immer mehr Menschen- oft jahrelang un
 bemerkt. Sie kann zu Gewichtszunahme\, Energielosigkeit\, Hautproblemen un
 d Zyklusbeschwerden führen- und ist ein stiller Vorbote von Diabetes Typ 
 2. \n\nIn diesem Vortrag erfährst du\, wie Ernährung\, Stress und Nährs
 toffe wie Omega 3 und Vitamin D3/K2 entscheidend gegensteuern können. \, 
 https://teamcalendar.eu/events/insulinresistenz-die-stille-epidemie/ical/
CATEGORIES:Online
LOCATION:https://us02web.zoom.us/j/84255940795?pwd=5zEW7bGAv0BfEpfNzbWRyws7
 APxSLL.1
END:VEVENT
BEGIN:VTIMEZONE
TZID:Europe/Vienna
X-LIC-LOCATION:Europe/Vienna
BEGIN:DAYLIGHT
DTSTART:20250330T030000
TZOFFSETFROM:+0100
TZOFFSETTO:+0200
TZNAME:CEST
END:DAYLIGHT
END:VTIMEZONE
END:VCALENDAR